BEGIN:VCALENDAR
VERSION:2.0
PRODID:-//Literatur- und Kunstkreis Uslar e. V.//NONSGML kigkonsult.se iCalcreator 2.41.92//
CALSCALE:GREGORIAN
METHOD:PUBLISH
UID:30393862-3363-4163-b961-313936646235
X-WR-CALNAME:iCagenda
X-WR-CALDESC:Event Management Extension for Joomla!
X-WR-RELCALID:3E26604A-50F4-4449-8B3E-E4F4932D05B5
X-WR-TIMEZONE:Europe/Berlin
BEGIN:VTIMEZONE
TZID:Europe/Berlin
TZUNTIL:20231029T010000Z
BEGIN:STANDARD
TZNAME:CET
DTSTART:20211031T030000
TZOFFSETFROM:+0200
TZOFFSETTO:+0100
RDATE:20221030T030000
END:STANDARD
BEGIN:DAYLIGHT
TZNAME:CEST
DTSTART:20210328T020000
TZOFFSETFROM:+0100
TZOFFSETTO:+0200
RDATE:20220327T020000
RDATE:20230326T020000
END:DAYLIGHT
END:VTIMEZONE
BEGIN:VEVENT
UID:36633066-3561-4532-b131-393062663862
DTSTAMP:20260422T145811Z
CATEGORIES:2021
CLASS:PUBLIC
DESCRIPTION;ALTREP="CID:<FFFF__=0ABBE548DFE235B58f9e8a93d@coffeebean.com>":
 Deitsch spielen traditionelle Tanzmusik und Liedgut aus Deutschland - zeit
 los und zeitgemäß zugleich. Frisch und unverkrampft werden 250 Jahre alte 
 und vergessen geglaubte Tänze und Lieder aus Deutschland fein arrangiert u
 nd interpretiert im Stil moderner europäischer Folkmusik am Puls der Zeit\
 , dargeboten mit Herz und Seele und viel virtuoser Musikalität.\nDie vier 
 Vollblut-Musiker Gudrun Walther\, Barbara Hintermeier\, Jürgen Treyz und S
 teffen Gabriel haben deutsches musikalisches Kulturgut gründlich entstaubt
  und ins 21. Jahrhundert katapultiert\, denn Folk aus Deutschland ist sehr
  viel mehr als Blasmusik und „Wumtata“.\nBesetzung:\n\n\n\n\nGudrun Walthe
 r:\n\n&nbsp\;\n\nGesang\, Geige\, Bratsche\, diatonisches Akkordeon\n\n\n
 \n\nBarbara Hintermeier:&nbsp\; \n\n&nbsp\;\n\nGeige\, Bratsche\, Satzgesa
 ng\n\n\n\n\nJürgen Treyz:\n\n&nbsp\;\n\nGitarre\, 12-saitige Gitarre\, Sat
 zgesang\n\n\n\n\nSteffen Gabriel:\n\n&nbsp\;\n\nHolzquerflöte\, Schäferpfe
 ife\, Satzgesang\n\n\n\n\n&nbsp\;\nDas Konzert wird gefördert vom Landscha
 ftsverband Südniedersachsen aus dem Programm „Niedersachsen dreht auf“.\n
 \n&nbsp\;\nHINWEIS:\nAllgemein geltende Corona-Regeln (3G-Regelung) und Hy
 gienekonzept
DTSTART:20211112T190000Z
DTEND:20211112T190000Z
GEO:+51.667473;+9.631277
LOCATION:Forum Gymnasium Uslar
ORGANIZER:
SEQUENCE:1
SUMMARY:DEITSCH klingt gut
TRANSP:OPAQUE
URL:https://literatur-kunstkreis-uslar.de/index.php/programm/archiv/157-dei
 tsch-klingt-gut
END:VEVENT
END:VCALENDAR
