BEGIN:VCALENDAR
VERSION:2.0
PRODID:-//Literatur- und Kunstkreis Uslar e. V.//NONSGML kigkonsult.se iCalcreator 2.41.92//
CALSCALE:GREGORIAN
METHOD:PUBLISH
UID:37376639-6534-4262-b930-626639653833
X-WR-CALNAME:iCagenda
X-WR-CALDESC:Event Management Extension for Joomla!
X-WR-RELCALID:3E26604A-50F4-4449-8B3E-E4F4932D05B5
X-WR-TIMEZONE:Europe/Berlin
BEGIN:VTIMEZONE
TZID:Europe/Berlin
TZUNTIL:20231029T010000Z
BEGIN:STANDARD
TZNAME:CET
DTSTART:20201025T030000
TZOFFSETFROM:+0200
TZOFFSETTO:+0100
RDATE:20211031T030000
RDATE:20221030T030000
END:STANDARD
BEGIN:DAYLIGHT
TZNAME:CEST
DTSTART:20210328T020000
TZOFFSETFROM:+0100
TZOFFSETTO:+0200
RDATE:20220327T020000
RDATE:20230326T020000
END:DAYLIGHT
END:VTIMEZONE
BEGIN:VEVENT
UID:30316461-6466-4065-a233-616463393435
DTSTAMP:20260422T150250Z
CATEGORIES:2021
CLASS:PUBLIC
DESCRIPTION;ALTREP="CID:<FFFF__=0ABBE548DFE235B58f9e8a93d@coffeebean.com>":
 Benny Goodman\, der King of Swing: dies ist seine wahre Geschichte. Der le
 gendäre Jazz-Klarinettist und Schöpfer hinreißender Tanzstücke war ein seh
 r eigenwilliger Mensch\, der manche seiner Zeitgenossen durch seine mitunt
 er tyrannische Art bis an den Rand der Verzweiflung trieb. In einer revuea
 rtigen Mischung aus Lesung\, Musik\, Szenen und Songs spürt das Trio Swing
 in’ Words diesem widersprüchlichen Charakter nach - humorvoll\, begleitet 
 von manchmal unfreiwillig komischen Anekdoten. Und natürlich sind seine un
 vergessenen Evergreens zu hören.\nHINWEIS:\nAllgemein geltende Corona-Rege
 ln (3G-Regelung) und Hygienekonzept
DTSTART:20211016T170000Z
DTEND:20211016T170000Z
GEO:+51.667473;+9.631277
LOCATION:Forum Gymnasium Uslar
ORGANIZER:
SEQUENCE:1
SUMMARY:Swingin’ Words
TRANSP:OPAQUE
URL:https://literatur-kunstkreis-uslar.de/index.php/programm/archiv/158-swi
 ngin-words
END:VEVENT
END:VCALENDAR
