BEGIN:VCALENDAR
VERSION:2.0
PRODID:-//Literatur- und Kunstkreis Uslar e. V.//NONSGML kigkonsult.se iCalcreator 2.41.92//
CALSCALE:GREGORIAN
METHOD:PUBLISH
UID:66366233-6334-4366-a137-653232623562
X-WR-CALNAME:iCagenda
X-WR-CALDESC:Event Management Extension for Joomla!
X-WR-RELCALID:3E26604A-50F4-4449-8B3E-E4F4932D05B5
X-WR-TIMEZONE:Europe/Berlin
BEGIN:VTIMEZONE
TZID:Europe/Berlin
TZUNTIL:20231029T010000Z
BEGIN:STANDARD
TZNAME:CET
DTSTART:20211031T030000
TZOFFSETFROM:+0200
TZOFFSETTO:+0100
RDATE:20221030T030000
END:STANDARD
BEGIN:DAYLIGHT
TZNAME:CEST
DTSTART:20210328T020000
TZOFFSETFROM:+0100
TZOFFSETTO:+0200
RDATE:20220327T020000
RDATE:20230326T020000
END:DAYLIGHT
END:VTIMEZONE
BEGIN:VEVENT
UID:63303762-3331-4333-a632-353438663561
DTSTAMP:20260422T150648Z
CATEGORIES:2021
CLASS:PUBLIC
DESCRIPTION;ALTREP="CID:<FFFF__=0ABBE548DFE235B58f9e8a93d@coffeebean.com>":
 2020 sollte er schon nach Uslar kommen\, dann wurde nichts daraus - jetzt 
 veranstaltet der Göttinger Literaturherbst Max Goldt in Uslar\, in Koopera
 tion mit der Stadtbücherei Uslar und dem Literatur- und Kunstkreis.\nWir f
 reuen uns auf seinen feinsinnigen\, scharfen\, grotesken Humor\, seinen Si
 nn für das Absurde und seine Gabe\, die Merkwürdigkeiten des Alltags für i
 ns Licht des Bewusstseins zu heben\nHINWEIS:\nAllgemein geltende Corona-Re
 geln (3G-Regelung) und Hygienekonzept\n&nbsp\;\nKooperationspartner:
DTSTART:20211030T173000Z
DTEND:20211030T173000Z
GEO:+51.667473;+9.631277
LOCATION:Forum Gymnasium Uslar
ORGANIZER:
SEQUENCE:1
SUMMARY:Göttinger Literaturherbst: Max Goldt
TRANSP:OPAQUE
URL:https://literatur-kunstkreis-uslar.de/index.php/programm/archiv/159-goe
 ttinger-literaturherbst-max-goldt
END:VEVENT
END:VCALENDAR
