BEGIN:VCALENDAR
VERSION:2.0
PRODID:-//Literatur- und Kunstkreis Uslar e. V.//NONSGML kigkonsult.se iCalcreator 2.41.92//
CALSCALE:GREGORIAN
METHOD:PUBLISH
UID:30613639-3863-4365-b830-323966326162
X-WR-CALNAME:iCagenda
X-WR-CALDESC:Event Management Extension for Joomla!
X-WR-RELCALID:3E26604A-50F4-4449-8B3E-E4F4932D05B5
X-WR-TIMEZONE:Europe/Berlin
BEGIN:VTIMEZONE
TZID:Europe/Berlin
TZUNTIL:20120325T010000Z
BEGIN:STANDARD
TZNAME:CET
DTSTART:20091025T030000
TZOFFSETFROM:+0200
TZOFFSETTO:+0100
RDATE:20101031T030000
RDATE:20111030T030000
END:STANDARD
BEGIN:DAYLIGHT
TZNAME:CEST
DTSTART:20100328T020000
TZOFFSETFROM:+0100
TZOFFSETTO:+0200
RDATE:20110327T020000
END:DAYLIGHT
END:VTIMEZONE
BEGIN:VEVENT
UID:34663366-3936-4362-b333-366434666231
DTSTAMP:20260422T150005Z
CATEGORIES:2010
CLASS:PUBLIC
DESCRIPTION;ALTREP="CID:<FFFF__=0ABBE548DFE235B58f9e8a93d@coffeebean.com>":
 Versprochen – ein so herrlich komisches Konzert haben Sie noch selten erle
 bt\n\nGogol &amp\; Mäx\n\nIm Kulturprogramm des Literatur- u. Kunstkreises
  Uslar spielen in diesem Sommer die Musikakrobaten GOGOL &amp\; MäX eine h
 erausragende Rolle. Zwei faszinierende Musiker und Komödianten zelebrieren
  am 13.07. um 20.00 Uhr im Forum des Gymnasiums ein tempo- und geistreich 
 ausgefochtenes musikalisches Duell von Bach bis Boogie-Woogie\, von Pianis
 simo bis Pianoforte\, von der Solo-Geige bis zur Orchester-Tuba. Sie biete
 n musik-akrobatische Finessen und schier unglaubliche Instrumenten-Vielfal
 t: Gogol &amp\; Mäx sind vielfach preisgekrönt und gastieren seit über 15 
 Jahren auf Bühnen in ganz Europa und darüber hinaus. Um nach Uslar zu komm
 en\, unterbrechen die Musikclowns extra für einen Tag ihre mehrwöchige Tei
 lnahme am Hannover Festival in den Herrenhäuser Gärten\, wo sie beim 'Klei
 nen Fest im großen Garten' mitwirken. Die Veranstalter freuen sich sehr üb
 er die Möglichkeit\, die beiden Künstler\, die große Bühnen in ausverkauft
 en Sälen gewohnt sind\, in der südniedersächsischen Ferienregion Uslarer L
 and präsentieren zu können. Pianist Gogol\, klassisch befrackt und akkurat
  gescheitelt\, reist mit eigenem Pianoforte und Bach-Büste. Sein so langmä
 hnig wie genial erfinderischer Konzert- und Reisebegleiter Mäx ist allerdi
 ngs beileibe nicht gewillt\, die Bühnen-Vorherrschaft des selbstgefälligen
  Maestro anzuerkennen: Keine Harmonie in der Philharmonie. Kaum hat jener 
 seinem kostbaren Klavier die ersten wohltemperierten Akkorde entlockt\, en
 twickelt sich das Konzert zur musikalischen Achterbahnfahrt\, zum clownesk
 en Husarenritt von der sorgsam intonierten Chopin-Etude bis zur Fingerkupp
 en-strapazierenden Flamenco-Parodie. Ein aberwitziges Duell zweier sich mi
 t Hingabe\, Phantasie und großem Können unaufhörlich piesackender Kollegen
 . Viele Preise\, TV-Auftritte\, Festival-Gigs und seit 9 Jahren enge Zusam
 menarbeit mit Sinfonie-Orchestern prägen ihre schier endlose Referenzliste
 . 'Große Kunst\, nach der der Jubel im Saal zu Recht kein Ende nehmen woll
 te.' (Süddeutsche Zeitung\, 14.04.2008) Kartenpreise:20\,-€ / ermäßigte un
 d Karten für Mitglieder des LuK 15\, -€.(Reservierte Karten sind bis 30 Mi
 n. vor Beginn an der Abendkasse abzuholen) Vorverkaufsstellen:\n\nBuchhand
 lung HENZE\, Lange Str. 4 Tel.05571-2806\nBücherwurm\, Lange Str. 9 Tel. 0
 5571-913399\nTouristik-Information\, historisches Rathaus Tel.05571-92240
 \nKSN Filialen Uslarer Ortsteile Schönhagen und Volpriehausen\n\nAuszeichn
 ungen:\n\nPublikumspreis beim 2. Roner SurPrize Bozen 2003\n1. Preis Inter
 nationales Kleinkunstfestival Koblenz 2001\nKleinkunstpreis der Stadt Schw
 erte 2001\nWestspitzenpreis der Sparte Clownerie 2000\n\nTV-Auftritte (Aus
 wahl)\n\n'Cadences' Television Suisse Romande\n'Klassisch' ZDF\n'Sonntagsk
 onzert' ZDF\n'Fernsehgarten' ZDF\nzahlreiche Sendungen der ARD Landesansta
 lten
DTSTART:20100713T180000Z
DTEND:20100713T180000Z
GEO:+51.667221;+9.63117
LOCATION:Forum des Gymnasiums Uslar
ORGANIZER:
SEQUENCE:1
SUMMARY:'Humor in Concert'
TRANSP:OPAQUE
URL:https://literatur-kunstkreis-uslar.de/index.php/programm/archiv/16-humo
 r-in-concert
END:VEVENT
END:VCALENDAR
