BEGIN:VCALENDAR
VERSION:2.0
PRODID:-//Literatur- und Kunstkreis Uslar e. V.//NONSGML kigkonsult.se iCalcreator 2.41.92//
CALSCALE:GREGORIAN
METHOD:PUBLISH
UID:34623064-6531-4861-b534-613863363265
X-WR-CALNAME:iCagenda
X-WR-CALDESC:Event Management Extension for Joomla!
X-WR-RELCALID:3E26604A-50F4-4449-8B3E-E4F4932D05B5
X-WR-TIMEZONE:Europe/Berlin
BEGIN:VTIMEZONE
TZID:Europe/Berlin
TZUNTIL:20231029T010000Z
BEGIN:STANDARD
TZNAME:CET
DTSTART:20211031T030000
TZOFFSETFROM:+0200
TZOFFSETTO:+0100
RDATE:20221030T030000
END:STANDARD
BEGIN:DAYLIGHT
TZNAME:CEST
DTSTART:20210328T020000
TZOFFSETFROM:+0100
TZOFFSETTO:+0200
RDATE:20220327T020000
RDATE:20230326T020000
END:DAYLIGHT
END:VTIMEZONE
BEGIN:VEVENT
UID:38303664-3030-4462-a463-636566643361
DTSTAMP:20260422T152042Z
CATEGORIES:2021
CLASS:PUBLIC
DESCRIPTION;ALTREP="CID:<FFFF__=0ABBE548DFE235B58f9e8a93d@coffeebean.com>":
 Der Ausnahmekünstler Bernd Lafrenz ist wieder da und bietet eine beeindruc
 kende ein-Mann-Show. Mit seinem komödiantischen Temperament sondergleichen
 \, mit einem Feuerwerk an vielfältiger Gestik und Mimik und mit eigenen Te
 xten voller sprühender Phantasie und Originalität spielt er in ganz und ga
 r eigener\, urkomischer Manier sämtliche Rollen selbst. So haben Sie Shake
 speares ohnehin schon äußerst amüsante Liebeskomödie noch nie gesehen!\nHI
 NWEIS:\nAllgemein geltende Corona-Regeln (2G-Regelung) und Hygienekonzept
DTSTART:20211126T183000Z
DTEND:20211126T183000Z
GEO:+51.659328;+9.631804
LOCATION:Ev. Gemeindehaus Uslar
ORGANIZER:
SEQUENCE:1
SUMMARY:Bernd Lafrenz: Was ihr wollt
TRANSP:OPAQUE
URL:https://literatur-kunstkreis-uslar.de/index.php/programm/archiv/160-ber
 nd-lafrenz-was-ihr-wollt
END:VEVENT
END:VCALENDAR
