BEGIN:VCALENDAR
VERSION:2.0
PRODID:-//Literatur- und Kunstkreis Uslar e. V.//NONSGML kigkonsult.se iCalcreator 2.41.92//
CALSCALE:GREGORIAN
METHOD:PUBLISH
UID:38313665-6130-4437-b166-303432386636
X-WR-CALNAME:iCagenda
X-WR-CALDESC:Event Management Extension for Joomla!
X-WR-RELCALID:3E26604A-50F4-4449-8B3E-E4F4932D05B5
X-WR-TIMEZONE:Europe/Berlin
BEGIN:VTIMEZONE
TZID:Europe/Berlin
TZUNTIL:20231029T010000Z
BEGIN:STANDARD
TZNAME:CET
DTSTART:20211031T030000
TZOFFSETFROM:+0200
TZOFFSETTO:+0100
RDATE:20221030T030000
END:STANDARD
BEGIN:DAYLIGHT
TZNAME:CEST
DTSTART:20220327T020000
TZOFFSETFROM:+0100
TZOFFSETTO:+0200
RDATE:20230326T020000
END:DAYLIGHT
END:VTIMEZONE
BEGIN:VEVENT
UID:65323233-3936-4432-b962-393335626666
DTSTAMP:20260422T145924Z
CATEGORIES:2022
CLASS:PUBLIC
DESCRIPTION;ALTREP="CID:<FFFF__=0ABBE548DFE235B58f9e8a93d@coffeebean.com>":
 Der Klassiker zum Jahresanfang! Auch diesmal wird das hochkarätig besetzte
  Orchester mit Walzer\, Polka und Galopp das heimische Publikum begeistern
  und einen beschwingten Auftakt für 2022 setzen.\nProgramm\nAn Evening wit
 h John Williams / John Williams Tribute Concert\nStar Wars: Main Title Sta
 r Wars: Princess Leia’s Theme Superman March Hook: The Flight to Neverland
 Jaws Theme Jurassic Park Theme ET Flying Theme Schindler’s List: Theme Rai
 der’s March Star Wars: 5. Throne Room and End Title\n&nbsp\;\nHINWEIS:\nVe
 ranstaltung im Rahmen der 3-G-Regel\, keine Maskenpflicht und volle Besetz
 ung des Raumes\, alle Gäste und Beteiligte sind geimpft oder genesen.
DTSTART:20220421T180000Z
DTEND:20220421T180000Z
GEO:+51.667473;+9.631277
LOCATION:Forum Gymnasium Uslar
ORGANIZER:
SEQUENCE:1
SUMMARY:Neujahrskonzert des GSO
TRANSP:OPAQUE
URL:https://literatur-kunstkreis-uslar.de/index.php/programm/archiv/161-neu
 jahrskonzert-des-gso
END:VEVENT
END:VCALENDAR
