BEGIN:VCALENDAR
VERSION:2.0
PRODID:-//Literatur- und Kunstkreis Uslar e. V.//NONSGML kigkonsult.se iCalcreator 2.41.92//
CALSCALE:GREGORIAN
METHOD:PUBLISH
UID:34663836-6336-4862-b961-623235653462
X-WR-CALNAME:iCagenda
X-WR-CALDESC:Event Management Extension for Joomla!
X-WR-RELCALID:3E26604A-50F4-4449-8B3E-E4F4932D05B5
X-WR-TIMEZONE:Europe/Berlin
BEGIN:VTIMEZONE
TZID:Europe/Berlin
TZUNTIL:20241027T010000Z
BEGIN:STANDARD
TZNAME:CET
DTSTART:20211031T030000
TZOFFSETFROM:+0200
TZOFFSETTO:+0100
RDATE:20221030T030000
RDATE:20231029T030000
END:STANDARD
BEGIN:DAYLIGHT
TZNAME:CEST
DTSTART:20220327T020000
TZOFFSETFROM:+0100
TZOFFSETTO:+0200
RDATE:20230326T020000
RDATE:20240331T020000
END:DAYLIGHT
END:VTIMEZONE
BEGIN:VEVENT
UID:34383065-6238-4231-a636-643066613663
DTSTAMP:20260422T133216Z
CATEGORIES:2022
CLASS:PUBLIC
DESCRIPTION;ALTREP="CID:<FFFF__=0ABBE548DFE235B58f9e8a93d@coffeebean.com>":
 'Das Ufo parkt falsch!' Der Grimmepreisträger und Bestseller-Autor präsent
 iert einen perfekten Mix aus brüllend komischen Beobachtungen\, verrückten
  Einfällen und liebens- werten Figuren. Wer Moritz Netenjakob nicht kennt\
 , hat aber schon mal über ihn gelacht – in den Sendungen „Pastewka“\, „Woc
 henshow“ und „Stromberg“. Intelligenter Humor und Lachtränen gehören bei i
 hm zusammen.
DTSTART:20221008T173000Z
DTEND:20221008T173000Z
GEO:+51.659328;+9.631804
LOCATION:Ev. Gemeindehaus Uslar
ORGANIZER:
SEQUENCE:1
SUMMARY:Moritz Netenjakob
TRANSP:OPAQUE
URL:https://literatur-kunstkreis-uslar.de/index.php/programm/archiv/162-mor
 itz-netenjakob
END:VEVENT
END:VCALENDAR
