BEGIN:VCALENDAR
VERSION:2.0
PRODID:-//Literatur- und Kunstkreis Uslar e. V.//NONSGML kigkonsult.se iCalcreator 2.41.92//
CALSCALE:GREGORIAN
METHOD:PUBLISH
UID:64336561-6332-4665-b433-373439643731
X-WR-CALNAME:iCagenda
X-WR-CALDESC:Event Management Extension for Joomla!
X-WR-RELCALID:3E26604A-50F4-4449-8B3E-E4F4932D05B5
X-WR-TIMEZONE:Europe/Berlin
BEGIN:VTIMEZONE
TZID:Europe/Berlin
TZUNTIL:20240331T010000Z
BEGIN:STANDARD
TZNAME:CET
DTSTART:20211031T030000
TZOFFSETFROM:+0200
TZOFFSETTO:+0100
RDATE:20221030T030000
RDATE:20231029T030000
END:STANDARD
BEGIN:DAYLIGHT
TZNAME:CEST
DTSTART:20220327T020000
TZOFFSETFROM:+0100
TZOFFSETTO:+0200
RDATE:20230326T020000
END:DAYLIGHT
END:VTIMEZONE
BEGIN:VEVENT
UID:63323537-6637-4563-a637-316663323265
DTSTAMP:20260422T133217Z
CATEGORIES:2022
CLASS:PUBLIC
DESCRIPTION;ALTREP="CID:<FFFF__=0ABBE548DFE235B58f9e8a93d@coffeebean.com>":
 Sie können gut singen. Sie sehen gut aus. Sie sind wahnsinnig komisch. Und
  sie brauchen kein einziges Instrument\, um musikalisch das Haus zu rocken
 : LaLeLu begeistern mit ihrem einzigartigen Mix aus Gesang und Komik\, Sho
 w und Parodie\, Pop und Klassik.\nHINWEIS:\nEinlass im Rahmen der 3G-Regel
 . Bitte denken Sie an Ihren Impf-\, Test- oder Genesenennachweis.\n&nbsp\;
 \n \r\n  \r
DTSTART:20220506T173000Z
DTEND:20220506T173000Z
GEO:+51.667473;+9.631277
LOCATION:Forum Gymnasium Uslar
ORGANIZER:
SEQUENCE:1
SUMMARY:LaLeLu
TRANSP:OPAQUE
URL:https://literatur-kunstkreis-uslar.de/index.php/programm/archiv/164-lal
 elu
END:VEVENT
END:VCALENDAR
