BEGIN:VCALENDAR
VERSION:2.0
PRODID:-//Literatur- und Kunstkreis Uslar e. V.//NONSGML kigkonsult.se iCalcreator 2.41.92//
CALSCALE:GREGORIAN
METHOD:PUBLISH
UID:62393665-6132-4131-a334-393932653535
X-WR-CALNAME:iCagenda
X-WR-CALDESC:Event Management Extension for Joomla!
X-WR-RELCALID:3E26604A-50F4-4449-8B3E-E4F4932D05B5
X-WR-TIMEZONE:Europe/Berlin
BEGIN:VTIMEZONE
TZID:Europe/Berlin
TZUNTIL:20240331T010000Z
BEGIN:STANDARD
TZNAME:CET
DTSTART:20211031T030000
TZOFFSETFROM:+0200
TZOFFSETTO:+0100
RDATE:20221030T030000
RDATE:20231029T030000
END:STANDARD
BEGIN:DAYLIGHT
TZNAME:CEST
DTSTART:20220327T020000
TZOFFSETFROM:+0100
TZOFFSETTO:+0200
RDATE:20230326T020000
END:DAYLIGHT
END:VTIMEZONE
BEGIN:VEVENT
UID:37626539-3637-4066-b839-626463653365
DTSTAMP:20260422T133623Z
CATEGORIES:2022
CLASS:PUBLIC
DESCRIPTION;ALTREP="CID:<FFFF__=0ABBE548DFE235B58f9e8a93d@coffeebean.com>":
 Save the date! Am 02. Juli dieses Jahres feiert der Literatur- und Kunstkr
 eis Uslar ein besonderes Fest: ein Sommerabend im Uslarer Schlosspark. Gut
 e Musik und inspierendes Kabarett\, Zauberei und der Park in stimmungsvoll
 em Licht.\n\n&nbsp\;\n \r\n  \r
DTSTART:20220701T220000Z
DTEND:20220701T220000Z
GEO:+51.658314;+9.632033
LOCATION:Schlosspark Uslar
ORGANIZER:
SEQUENCE:1
SUMMARY:Sommerfest im Park
TRANSP:OPAQUE
URL:https://literatur-kunstkreis-uslar.de/index.php/programm/archiv/165-som
 merfest-im-park
END:VEVENT
END:VCALENDAR
