BEGIN:VCALENDAR
VERSION:2.0
PRODID:-//Literatur- und Kunstkreis Uslar e. V.//NONSGML kigkonsult.se iCalcreator 2.41.92//
CALSCALE:GREGORIAN
METHOD:PUBLISH
UID:64623938-3061-4535-a138-383665623066
X-WR-CALNAME:iCagenda
X-WR-CALDESC:Event Management Extension for Joomla!
X-WR-RELCALID:3E26604A-50F4-4449-8B3E-E4F4932D05B5
X-WR-TIMEZONE:Europe/Berlin
BEGIN:VTIMEZONE
TZID:Europe/Berlin
TZUNTIL:20240331T010000Z
BEGIN:STANDARD
TZNAME:CET
DTSTART:20211031T030000
TZOFFSETFROM:+0200
TZOFFSETTO:+0100
RDATE:20221030T030000
RDATE:20231029T030000
END:STANDARD
BEGIN:DAYLIGHT
TZNAME:CEST
DTSTART:20220327T020000
TZOFFSETFROM:+0100
TZOFFSETTO:+0200
RDATE:20230326T020000
END:DAYLIGHT
END:VTIMEZONE
BEGIN:VEVENT
UID:62613362-6562-4665-b638-653937323933
DTSTAMP:20260422T133103Z
CATEGORIES:2022
CLASS:PUBLIC
DESCRIPTION;ALTREP="CID:<FFFF__=0ABBE548DFE235B58f9e8a93d@coffeebean.com>":
 Die Schriftstellerin und Gestalterin Judith Schalansky wurde für ihr Werk\
 , darunter der international erfolgreiche Bestseller Atlas der abgelegenen
  Inseln sowie der Roman Der Hals der Giraffe vielfach ausgezeichnet.\nSUBS
 YSTEM sind Tieftonspezialisten. Ideenreich\, gewitzt und virtuos loten die
  Berliner Musiker:innen Almut Schlichting und Sven Hinse die Möglichkeiten
  von Baritonsaxophon und Kontrabass\, die sonst nur selten einzeln zu höre
 n sind\, vollkommen aus.
DTSTART:20220909T173000Z
DTEND:20220909T173000Z
GEO:+51.658863;+9.634404
LOCATION:Rathaussaal
ORGANIZER:
SEQUENCE:1
SUMMARY:Judith Schalansky & SubSystem
TRANSP:OPAQUE
URL:https://literatur-kunstkreis-uslar.de/index.php/programm/archiv/166-jud
 ith-schalansky-subsystem
END:VEVENT
END:VCALENDAR
