BEGIN:VCALENDAR
VERSION:2.0
PRODID:-//Literatur- und Kunstkreis Uslar e. V.//NONSGML kigkonsult.se iCalcreator 2.41.92//
CALSCALE:GREGORIAN
METHOD:PUBLISH
UID:65653661-3464-4066-b566-623264616563
X-WR-CALNAME:iCagenda
X-WR-CALDESC:Event Management Extension for Joomla!
X-WR-RELCALID:3E26604A-50F4-4449-8B3E-E4F4932D05B5
X-WR-TIMEZONE:Europe/Berlin
BEGIN:VTIMEZONE
TZID:Europe/Berlin
TZUNTIL:20241027T010000Z
BEGIN:STANDARD
TZNAME:CET
DTSTART:20211031T030000
TZOFFSETFROM:+0200
TZOFFSETTO:+0100
RDATE:20221030T030000
RDATE:20231029T030000
END:STANDARD
BEGIN:DAYLIGHT
TZNAME:CEST
DTSTART:20220327T020000
TZOFFSETFROM:+0100
TZOFFSETTO:+0200
RDATE:20230326T020000
RDATE:20240331T020000
END:DAYLIGHT
END:VTIMEZONE
BEGIN:VEVENT
UID:34373436-6261-4563-a230-656162616531
DTSTAMP:20260422T133710Z
CATEGORIES:2022
CLASS:PUBLIC
DESCRIPTION;ALTREP="CID:<FFFF__=0ABBE548DFE235B58f9e8a93d@coffeebean.com>":
 Zeitgenössischer Jazz trifft Musiktradition der 1920er Jahre. Der Clou: Vi
 deokunst als visuelles Instrument auf der Bühne zusammen mit Stimme\, vari
 ablen Bläsern und Rhythmusgruppe. Der spannende Ansatz und die erlesene Au
 swahl der Musikerinnen und Musiker um den Saxophonisten Ulli Orth versprec
 hen ein außergewöhnliches Konzerterlebnis voller exklusiver Kompositionen.
DTSTART:20221030T183000Z
DTEND:20221030T183000Z
GEO:+51.654587;+9.655
LOCATION:Kulturbahnhof Uslar
ORGANIZER:
SEQUENCE:1
SUMMARY:Jazz Art Niedersachsen
TRANSP:OPAQUE
URL:https://literatur-kunstkreis-uslar.de/index.php/programm/archiv/167-jaz
 z-art-niedersachsen
END:VEVENT
END:VCALENDAR
