BEGIN:VCALENDAR
VERSION:2.0
PRODID:-//Literatur- und Kunstkreis Uslar e. V.//NONSGML kigkonsult.se iCalcreator 2.41.92//
CALSCALE:GREGORIAN
METHOD:PUBLISH
UID:31376462-3165-4863-b338-386431313237
X-WR-CALNAME:iCagenda
X-WR-CALDESC:Event Management Extension for Joomla!
X-WR-RELCALID:3E26604A-50F4-4449-8B3E-E4F4932D05B5
X-WR-TIMEZONE:Europe/Berlin
BEGIN:VTIMEZONE
TZID:Europe/Berlin
TZUNTIL:20241027T010000Z
BEGIN:STANDARD
TZNAME:CET
DTSTART:20221030T030000
TZOFFSETFROM:+0200
TZOFFSETTO:+0100
RDATE:20231029T030000
END:STANDARD
BEGIN:DAYLIGHT
TZNAME:CEST
DTSTART:20220327T020000
TZOFFSETFROM:+0100
TZOFFSETTO:+0200
RDATE:20230326T020000
RDATE:20240331T020000
END:DAYLIGHT
END:VTIMEZONE
BEGIN:VEVENT
UID:30353261-3539-4231-b335-363239316566
DTSTAMP:20260422T133222Z
CATEGORIES:2022
CLASS:PUBLIC
DESCRIPTION;ALTREP="CID:<FFFF__=0ABBE548DFE235B58f9e8a93d@coffeebean.com>":
 Man muss das auch mal negativ sehen! Eine temperamentvolle Performance von
  Sketchen. Chansons\, absurder Poesie und heiter-ironischen Gedichten. Da 
 geht es um alternative Berufsplanung für Lehrerinnen\, unheilvolle Affären
  mit Kartoffelchips\, Männer im Baumarkt\, Frauen beim Typberater und die 
 unterschiedlichen Methoden\, die Welt zu retten. Und auch das positivste a
 ller positiven Gefühle bleibt nicht verschont: die Liebe. HINWEIS: vormitt
 ags Lesung in der Grundschule Uslar in Kooperation mit der Stadtbücherei U
 slar.
DTSTART:20221118T180000Z
DTEND:20221118T180000Z
GEO:+51.659336;+9.635977
LOCATION:Bücherwurm Uslar
ORGANIZER:
SEQUENCE:1
SUMMARY:Andrea Schomburg
TRANSP:OPAQUE
URL:https://literatur-kunstkreis-uslar.de/index.php/programm/archiv/168-and
 rea-schomburg
END:VEVENT
END:VCALENDAR
