BEGIN:VCALENDAR
VERSION:2.0
PRODID:-//Literatur- und Kunstkreis Uslar e. V.//NONSGML kigkonsult.se iCalcreator 2.41.92//
CALSCALE:GREGORIAN
METHOD:PUBLISH
UID:34343761-6465-4839-b534-613439393663
X-WR-CALNAME:iCagenda
X-WR-CALDESC:Event Management Extension for Joomla!
X-WR-RELCALID:3E26604A-50F4-4449-8B3E-E4F4932D05B5
X-WR-TIMEZONE:Europe/Berlin
BEGIN:VTIMEZONE
TZID:Europe/Berlin
TZUNTIL:20241027T010000Z
BEGIN:STANDARD
TZNAME:CET
DTSTART:20221030T030000
TZOFFSETFROM:+0200
TZOFFSETTO:+0100
RDATE:20231029T030000
END:STANDARD
BEGIN:DAYLIGHT
TZNAME:CEST
DTSTART:20220327T020000
TZOFFSETFROM:+0100
TZOFFSETTO:+0200
RDATE:20230326T020000
RDATE:20240331T020000
END:DAYLIGHT
END:VTIMEZONE
BEGIN:VEVENT
UID:36663064-6263-4263-a235-623530646363
DTSTAMP:20260422T133711Z
CATEGORIES:2022
CLASS:PUBLIC
DESCRIPTION;ALTREP="CID:<FFFF__=0ABBE548DFE235B58f9e8a93d@coffeebean.com>":
 Peter PrangeDer Traumpalast - Bilder von Liebe und Macht\nBerlin 1925: Dan
 k Rahel und Tino floriert die UFA in Babelsberg. Sie ist der neue Star der
  Branche\, er treibt den kometenhaften Aufstieg der Filmfabrik voran. Es k
 ündigen sich also goldene Zeiten in der rauschenden Metropole für das Schi
 cksalspaar an\, das im ersten Traumpalast-Band zueinander fand. Doch dann 
 machen die Nationalsozialisten den Film zum Spielball ihrer politischen Ma
 chenschaften – und Tino ist gezwungen\, eine folgenschwere Entscheidung zu
  treffen. In Der Traumpalast. Bilder von Liebe und Macht (S. Fischer 2022)
  erweckt Peter Prange\, der große Erzähler der deutschen Geschichte\, die 
 goldenen 20er Jahre mit all ihrem Glanz und Elend zum Leben.\nKooperations
 partner:\n    \nFoto (c) Gaby Gerster\nWeitere Informationen zum Göttinger
  Literaturherbst unter:&nbsp\;www.literaturherbst.com
DTSTART:20221105T180000Z
DTEND:20221105T180000Z
GEO:+51.658863;+9.634404
LOCATION:Altes Rathaus Uslar
ORGANIZER:
SEQUENCE:1
SUMMARY:Göttinger Literaturherbst: Peter Prange
TRANSP:OPAQUE
URL:https://literatur-kunstkreis-uslar.de/index.php/programm/archiv/169-goe
 ttinger-literaturherbst-peter-prange
END:VEVENT
END:VCALENDAR
