BEGIN:VCALENDAR
VERSION:2.0
PRODID:-//Literatur- und Kunstkreis Uslar e. V.//NONSGML kigkonsult.se iCalcreator 2.41.92//
CALSCALE:GREGORIAN
METHOD:PUBLISH
UID:65643939-3466-4132-a534-646332623637
X-WR-CALNAME:iCagenda
X-WR-CALDESC:Event Management Extension for Joomla!
X-WR-RELCALID:3E26604A-50F4-4449-8B3E-E4F4932D05B5
X-WR-TIMEZONE:Europe/Berlin
BEGIN:VTIMEZONE
TZID:Europe/Berlin
TZUNTIL:20120325T010000Z
BEGIN:STANDARD
TZNAME:CET
DTSTART:20091025T030000
TZOFFSETFROM:+0200
TZOFFSETTO:+0100
RDATE:20101031T030000
RDATE:20111030T030000
END:STANDARD
BEGIN:DAYLIGHT
TZNAME:CEST
DTSTART:20100328T020000
TZOFFSETFROM:+0100
TZOFFSETTO:+0200
RDATE:20110327T020000
END:DAYLIGHT
END:VTIMEZONE
BEGIN:VEVENT
UID:65636566-6534-4362-b266-626539313133
DTSTAMP:20260422T145800Z
CATEGORIES:2010
CLASS:PUBLIC
DESCRIPTION;ALTREP="CID:<FFFF__=0ABBE548DFE235B58f9e8a93d@coffeebean.com>":
 One-Woman-Kabarett mit Lioba Albus\nEin weiteres Kleinkunstschmankerl für 
 Freunde des Kabaretts\, nach der Leipziger Pfeffermühle das zweite in dies
 em Jahr\, präsentiert der Literatur- u. Kunstkreis Uslar e.V. am Freitag d
 en 13.08. im Kulturbahnhof Uslar. Lioba Albus\, bekannt aus Rundfunk und T
 V-Sendungen des WDR\, wird auf ihre unnachahmliche Weise in ihrem Bühnenpr
 ogramm 'Mit heißem Herzen' über Liebe Lust und Lustverlust schwadronieren.
  Kartenpreise: Der Eintritt beträgt 15\,-€\, ermäßigte Karten und für Mitg
 lieder des LuK 12\,-€.(Reservierte Karten sind bis 30 Min. vor Beginn an d
 er Abendkasse abzuholen) Vorverkaufsstellen:\n\nBuchhandlung HENZE\, Lange
  Str. 4 Tel.05571-2806\nBücherwurm\, Lange Str. 9 Tel. 05571-913399\nTouri
 stik-Information\, historisches Rathaus Tel.05571-92240\nKSN Filialen Usla
 rer Ortsteile Schönhagen und Volpriehausen\n\nDie Kabarettistin Lioba Albu
 s macht Kabarett zwischen fein und gemein. Sie kennt sich aus im Leben und
  geht den Dingen mit gewandtem Zungenschlag auf den Grund: witzig\, elegan
 t\, phantasiekraft- und gefühlvoll. Dabei geraten Weltbilder gelegentlich 
 ins Wanken! Lioba Albus trägt den Beinamen Wort Vulkan nicht zufällig. Ihr
 e Schlagfertigkeit\, Wandlungsfähigkeit und ihren Witz hat sie während zah
 lloser Bühnenauftritte\, im Fernsehen und im Radio unter Beweis gestellt. 
 Ihre Themen: Geschichten\, die das Leben schrieb. Vor allem aber: Frauen u
 nd Männer und deren Verhältnis zueinander. Keine ganz leichte Angelegenhei
 t\, wie man weiß… In vielen Geschichten und in ebenso vielen verschiedenen
  Rollen gibt Lioba Albus beiden Geschlechtern Saures. Einen 'leibhaftigen 
 Trost auf unserem Planeten' hat man sie genannt und einen 'kabarettistisch
 en Volltreffer'. (Quelle: Bocholt\, Alte Molkerei\, Veranstaltungshinweis 
 online)\nZum Programm:\nMit heißem Herzen Über Liebe\, Lust und Lustverlus
 t Die Liebe ist schon ein seltsames Spiel. Ein Spiel\, in dem jeder die Re
 geln zu kennen glaubt und doch erkennen muss: Für Liebeskummer ist man nie
  zu alt! Denn das Karussell der Liebe dreht sich schnell. Da wähnt man sic
 h sicher auf einem Lebensplätzchen und rutscht unversehens aus der Kurve. 
 Eh man sich versieht\, passt der Haustürschlüssel nicht mehr zum Schloss. 
 Und wieder ist man auf der Suche nach etwas\, nach jemandem oder nach sich
  selbst. Als unerschütterlicher Liebescoach steht Lioba Albus den Menschen
  in diesen verwirrenden Zeiten zur Seite. Mit heißem Herzen und kühlem Kop
 f greift sie mit sortierender Hand mitten hinein ins pralle Liebesleben. D
 abei wird sie wie immer von ihrem alter ego Mia Mittelkötter begleitet\, d
 er sauerländischen Fachfrau für humorvolle Überlebensstrategien. Immer nac
 h der Devise: 'Nichts ist so beständig wie der Wandel' zeigt Lioba Albus e
 ine temporeiche Nummernrevue\, in der sie beweist\, dass man auch herzlich
  über die Themen lachen kann\, die einem wirklich am Herzen liegen.\nPersö
 nliches:\nLioba Albus\, engagiert sich für Camino\, dem ambulanten Hospizd
 ienst der Caritas Attendorn. 'Ich werde nach meinen Auftritten häufig gefr
 agt\, ob ich privat auch ein eher lustiger und fröhlicher Mensch bin. Ja\,
  das bin ich – überwiegend. Ich kann über Missgeschicke herzlich lachen – 
 über meine genauso\, wie über die der anderen. Humor ist das Salz in der S
 uppe des Lebens. Das ist meine feste Überzeugung. Humor gibt mir immer wie
 der die Kraft\, auch mit großen und kleinen Schicksalsschlägen umzugehen. 
 Deswegen blende ich aber ernste und besinnliche Themen nicht aus meinem Bl
 ickfeld aus.' (Quelle: http://www.lioba-albus.de)\nVita:\nLioba Albus wuch
 s in der sauerländischen Stadt Attendorn auf. Nach ihrem Abitur 1977 besuc
 hte sie eine private Schauspielschule in München und studierte dort Theate
 rwissenschaftenTheaterwissenschaften. Ab zirka 1980 arbeitete sie kurzzeit
 ig als Sprecherin im Bayerischen Rundfunk\, dann als Schauspielerin\, zunä
 chst bei Tourneetheatern für Kinder\, dann am Dortmunder Kinder- und Jugen
 dtheater und anderen deutschen Bühnen. Seit zirka 1991 tritt Lioba Albus f
 reiberuflich als Kabarettistin auf\, nicht nur auf Bühnen\, sondern auch r
 egelmäßig im WDR-Fernsehen\, später unregelmäßig z. B. in den Sendungen Mi
 tternachtsspitzen\, Blond am Freitag und 7 Tage\, 7 Köpfe.Von 1995 bis 200
 1 moderierte sie zudem die WDR-Radiosendung Unterhaltung am Wochenende. Li
 oba Albus lebt seit vielen Jahren in Dortmund. (Quelle: Wikipedia)
DTSTART:20100813T180000Z
DTEND:20100813T180000Z
GEO:+51.654633;+9.655201
LOCATION:Kulturbahnhof Uslar
ORGANIZER:
SEQUENCE:1
SUMMARY:'Mit heißem Herzen'
TRANSP:OPAQUE
URL:https://literatur-kunstkreis-uslar.de/index.php/programm/archiv/17-mit-
 heissem-herzen
END:VEVENT
END:VCALENDAR
