BEGIN:VCALENDAR
VERSION:2.0
PRODID:-//Literatur- und Kunstkreis Uslar e. V.//NONSGML kigkonsult.se iCalcreator 2.41.92//
CALSCALE:GREGORIAN
METHOD:PUBLISH
UID:62373737-3737-4036-a662-613833663238
X-WR-CALNAME:iCagenda
X-WR-CALDESC:Event Management Extension for Joomla!
X-WR-RELCALID:3E26604A-50F4-4449-8B3E-E4F4932D05B5
X-WR-TIMEZONE:Europe/Berlin
BEGIN:VTIMEZONE
TZID:Europe/Berlin
TZUNTIL:20241027T010000Z
BEGIN:STANDARD
TZNAME:CET
DTSTART:20221030T030000
TZOFFSETFROM:+0200
TZOFFSETTO:+0100
RDATE:20231029T030000
END:STANDARD
BEGIN:DAYLIGHT
TZNAME:CEST
DTSTART:20220327T020000
TZOFFSETFROM:+0100
TZOFFSETTO:+0200
RDATE:20230326T020000
RDATE:20240331T020000
END:DAYLIGHT
END:VTIMEZONE
BEGIN:VEVENT
UID:37626332-6232-4062-a464-656264343534
DTSTAMP:20260422T133741Z
CATEGORIES:2023
CLASS:PUBLIC
DESCRIPTION;ALTREP="CID:<FFFF__=0ABBE548DFE235B58f9e8a93d@coffeebean.com>":
 Schwungvoll und feierlich beginnt das Kulturjahr in Uslar und dazu gehören
  das Göttinger Symphonieorchester und ein Glas Sekt. Herzlich willkommen i
 n 2023!\n\nNicholas Milton - Dirigent\nLyuta Kobayashi - Klarinette\nMusik
  von Johann (Sohn und Vater)\, Josef und Eduard Strauss\, Gioachino Rossin
 i\, Pablo de Sarasate und anderen
DTSTART:20230104T190000Z
DTEND:20230104T190000Z
GEO:+51.667473;+9.631277
LOCATION:Forum Gymnasium Uslar
ORGANIZER:
SEQUENCE:1
SUMMARY:Neujahrskonzert mit dem GSO
TRANSP:OPAQUE
URL:https://literatur-kunstkreis-uslar.de/index.php/programm/archiv/170-das
 -neujahrskonzert-goettinger-symphonieorchester
END:VEVENT
END:VCALENDAR
