BEGIN:VCALENDAR
VERSION:2.0
PRODID:-//Literatur- und Kunstkreis Uslar e. V.//NONSGML kigkonsult.se iCalcreator 2.41.92//
CALSCALE:GREGORIAN
METHOD:PUBLISH
UID:32666339-3532-4930-b266-383735643866
X-WR-CALNAME:iCagenda
X-WR-CALDESC:Event Management Extension for Joomla!
X-WR-RELCALID:3E26604A-50F4-4449-8B3E-E4F4932D05B5
X-WR-TIMEZONE:Europe/Berlin
BEGIN:VTIMEZONE
TZID:Europe/Berlin
TZUNTIL:20241027T010000Z
BEGIN:STANDARD
TZNAME:CET
DTSTART:20221030T030000
TZOFFSETFROM:+0200
TZOFFSETTO:+0100
RDATE:20231029T030000
END:STANDARD
BEGIN:DAYLIGHT
TZNAME:CEST
DTSTART:20220327T020000
TZOFFSETFROM:+0100
TZOFFSETTO:+0200
RDATE:20230326T020000
RDATE:20240331T020000
END:DAYLIGHT
END:VTIMEZONE
BEGIN:VEVENT
UID:32663330-3661-4462-a336-303131353565
DTSTAMP:20260422T133458Z
CATEGORIES:2023
CLASS:PUBLIC
DESCRIPTION;ALTREP="CID:<FFFF__=0ABBE548DFE235B58f9e8a93d@coffeebean.com>":
 Cora Hübsch leidet Höllenqualen\, denn Daniel\, der Mann ihrer Träume\, ru
 ft nicht an. Versorgt mit Snacks und Weißwein\, das Telefon stets im Blick
 \, lässt Cora die letzten Wochen Revue passieren. Heiter\, einfühlsam und 
 komisch ist dieses eine-Frau-Theaterstück mit Susanne Rösch nach dem Bests
 eller von Ildiko von Kürthy.
DTSTART:20230211T183000Z
DTEND:20230211T183000Z
GEO:+51.659328;+9.631804
LOCATION:Ev. Gemeindehaus Uslar
ORGANIZER:
SEQUENCE:1
SUMMARY:Theater: Mondscheintarif
TRANSP:OPAQUE
URL:https://literatur-kunstkreis-uslar.de/index.php/programm/archiv/171-the
 ater-mondscheintarif
END:VEVENT
END:VCALENDAR
