BEGIN:VCALENDAR
VERSION:2.0
PRODID:-//Literatur- und Kunstkreis Uslar e. V.//NONSGML kigkonsult.se iCalcreator 2.41.92//
CALSCALE:GREGORIAN
METHOD:PUBLISH
UID:64303238-6232-4130-b030-326435656430
X-WR-CALNAME:iCagenda
X-WR-CALDESC:Event Management Extension for Joomla!
X-WR-RELCALID:3E26604A-50F4-4449-8B3E-E4F4932D05B5
X-WR-TIMEZONE:Europe/Berlin
BEGIN:VTIMEZONE
TZID:Europe/Berlin
TZUNTIL:20241027T010000Z
BEGIN:STANDARD
TZNAME:CET
DTSTART:20221030T030000
TZOFFSETFROM:+0200
TZOFFSETTO:+0100
RDATE:20231029T030000
END:STANDARD
BEGIN:DAYLIGHT
TZNAME:CEST
DTSTART:20220327T020000
TZOFFSETFROM:+0100
TZOFFSETTO:+0200
RDATE:20230326T020000
RDATE:20240331T020000
END:DAYLIGHT
END:VTIMEZONE
BEGIN:VEVENT
UID:63646530-3964-4636-b064-323031313961
DTSTAMP:20260422T133324Z
CATEGORIES:2023
CLASS:PUBLIC
DESCRIPTION;ALTREP="CID:<FFFF__=0ABBE548DFE235B58f9e8a93d@coffeebean.com>":
 Intensiver und mitreißender a-capella-Gesang der Extraklasse mit der Grupp
 e SUB 5 aus Hannover. Mit ihren brillanten Solostimmen und jeder Menge Lie
 be zum Detail verwöhnen SUB 5 die Ohren ihrer Zuhörer:innen. In ihrem Prog
 ramm mit modernen und traditionellen Songs präsentiert die Gruppe einen Mi
 x aus Pop\, Jazz\, Soul und Tango.
DTSTART:20230318T183000Z
DTEND:20230318T183000Z
GEO:+51.661701;+9.638515
LOCATION:Friedenskirche Uslar
ORGANIZER:
SEQUENCE:1
SUMMARY:A-capella: SUB 5
TRANSP:OPAQUE
URL:https://literatur-kunstkreis-uslar.de/index.php/programm/archiv/172-a-c
 apella-sub-5
END:VEVENT
END:VCALENDAR
