BEGIN:VCALENDAR
VERSION:2.0
PRODID:-//Literatur- und Kunstkreis Uslar e. V.//NONSGML kigkonsult.se iCalcreator 2.41.92//
CALSCALE:GREGORIAN
METHOD:PUBLISH
UID:38326139-3136-4565-a632-333965336434
X-WR-CALNAME:iCagenda
X-WR-CALDESC:Event Management Extension for Joomla!
X-WR-RELCALID:3E26604A-50F4-4449-8B3E-E4F4932D05B5
X-WR-TIMEZONE:Europe/Berlin
BEGIN:VTIMEZONE
TZID:Europe/Berlin
TZUNTIL:20241027T010000Z
BEGIN:STANDARD
TZNAME:CET
DTSTART:20221030T030000
TZOFFSETFROM:+0200
TZOFFSETTO:+0100
RDATE:20231029T030000
END:STANDARD
BEGIN:DAYLIGHT
TZNAME:CEST
DTSTART:20230326T020000
TZOFFSETFROM:+0100
TZOFFSETTO:+0200
RDATE:20240331T020000
END:DAYLIGHT
END:VTIMEZONE
BEGIN:VEVENT
UID:33323939-3363-4766-b431-613137613664
DTSTAMP:20260422T133830Z
CATEGORIES:2023
CLASS:PUBLIC
DESCRIPTION;ALTREP="CID:<FFFF__=0ABBE548DFE235B58f9e8a93d@coffeebean.com>":
 In ihrem fulminanten\, so komischen wie bitteren Bestsellerroman erzählt L
 ucy Fricke von einer Diplomatin\, die den Glauben an die Diplomatie verlie
 rt. Sie gerät zwischen ein Justizopfer und die staatliche Gewalt in der Tü
 rkei. Dabei setzt sie ihren Job und sich selbst auf‘s Spiel.
DTSTART:20230421T173000Z
DTEND:20230421T173000Z
GEO:+51.658863;+9.634404
LOCATION:Altes Rathaus Uslar
ORGANIZER:
SEQUENCE:1
SUMMARY:Lesung: Die Diplomatin Lucy Fricke
TRANSP:OPAQUE
URL:https://literatur-kunstkreis-uslar.de/index.php/programm/archiv/173-les
 ung-die-diplomatin-lucy-fricke
END:VEVENT
END:VCALENDAR
