BEGIN:VCALENDAR
VERSION:2.0
PRODID:-//Literatur- und Kunstkreis Uslar e. V.//NONSGML kigkonsult.se iCalcreator 2.41.92//
CALSCALE:GREGORIAN
METHOD:PUBLISH
UID:66656131-6235-4162-a539-663632623361
X-WR-CALNAME:iCagenda
X-WR-CALDESC:Event Management Extension for Joomla!
X-WR-RELCALID:3E26604A-50F4-4449-8B3E-E4F4932D05B5
X-WR-TIMEZONE:Europe/Berlin
BEGIN:VTIMEZONE
TZID:Europe/Berlin
TZUNTIL:20250330T010000Z
BEGIN:STANDARD
TZNAME:CET
DTSTART:20221030T030000
TZOFFSETFROM:+0200
TZOFFSETTO:+0100
RDATE:20231029T030000
RDATE:20241027T030000
END:STANDARD
BEGIN:DAYLIGHT
TZNAME:CEST
DTSTART:20230326T020000
TZOFFSETFROM:+0100
TZOFFSETTO:+0200
RDATE:20240331T020000
END:DAYLIGHT
END:VTIMEZONE
BEGIN:VEVENT
UID:62306461-6361-4639-b738-333562613564
DTSTAMP:20260422T133830Z
CATEGORIES:2023
CLASS:PUBLIC
DESCRIPTION;ALTREP="CID:<FFFF__=0ABBE548DFE235B58f9e8a93d@coffeebean.com>":
 Seine Musik ist bekannt aus der Dreigroschenoper und zahlreichen Broadway 
 Musical: Kurt Weil. Das Trio Spielraum mit Silvia Droste (Gesang)\, Michae
 l Kotzian (Klavier) und Stefan Werni (Bass) bringt das bewegte Leben des K
 omponisten auf die Bühne. Mit dabei bekannte Songs wie Mackie Messer und S
 eeräuber Jenny.
DTSTART:20230506T173000Z
DTEND:20230506T173000Z
GEO:+51.661701;+9.638515
LOCATION:Friedenskirche Uslar
ORGANIZER:
SEQUENCE:1
SUMMARY:Jazz: Spielraum Musik und Leben von Kurt Weill
TRANSP:OPAQUE
URL:https://literatur-kunstkreis-uslar.de/index.php/programm/archiv/174-jaz
 z-spielraum-musik-und-leben-von-kurt-weill
END:VEVENT
END:VCALENDAR
