BEGIN:VCALENDAR
VERSION:2.0
PRODID:-//Literatur- und Kunstkreis Uslar e. V.//NONSGML kigkonsult.se iCalcreator 2.41.92//
CALSCALE:GREGORIAN
METHOD:PUBLISH
UID:36326334-6134-4162-b430-323336663566
X-WR-CALNAME:iCagenda
X-WR-CALDESC:Event Management Extension for Joomla!
X-WR-RELCALID:3E26604A-50F4-4449-8B3E-E4F4932D05B5
X-WR-TIMEZONE:Europe/Berlin
BEGIN:VTIMEZONE
TZID:Europe/Berlin
TZUNTIL:20250330T010000Z
BEGIN:STANDARD
TZNAME:CET
DTSTART:20221030T030000
TZOFFSETFROM:+0200
TZOFFSETTO:+0100
RDATE:20231029T030000
RDATE:20241027T030000
END:STANDARD
BEGIN:DAYLIGHT
TZNAME:CEST
DTSTART:20230326T020000
TZOFFSETFROM:+0100
TZOFFSETTO:+0200
RDATE:20240331T020000
END:DAYLIGHT
END:VTIMEZONE
BEGIN:VEVENT
UID:64333233-6138-4935-b835-363030636462
DTSTAMP:20260422T133340Z
CATEGORIES:2023
CLASS:PUBLIC
DESCRIPTION;ALTREP="CID:<FFFF__=0ABBE548DFE235B58f9e8a93d@coffeebean.com>":
 In der Abendsonne unter Bäumen zu picknicken und dabei einer Lifeband zu l
 auschen. Chillen und genießen\, dazu&nbsp\;lädt der Literatur-und Kunstkre
 is Uslar e. V. in Kooperation mit dem Kleinen Café „Rolle Rückwärts“ und d
 em Kulturbahnhof Uslar ein. Das Areal unterhalb des 'Kleinen Cafes' bietet
  genügend Raum\, sich gemütlich fallen zu lassen und den nordischen Folkro
 ck der Gruppe 'Fior' den Alltag vergessen zu lassen.\nDie vier Musiker bri
 ngen die Leute mit einfühlsamem Gesang und keltischem Sound zum Tanzen und
  Träumen. Sie spielen modernen Folk auf traditionellen Instrumenten. Einen
  wahren Schatz an Balladen\, mittelalterlichen Melodien und Volksliedern a
 us Nordeuropa und bringen sie auf der mobilen Bühne des Kulturbahnhofs Usl
 ar zu Gehör.\nAuf der Terrasse des Kleinen Cafés gibt es Leckereien vom Gr
 ill. Konzertbesucher können sich im Bereich des Parks aufhalten und auf mi
 tgebrachten Picknickdecken und Sitzgelegenheiten der Musik lauschen.\nDer 
 Verzehr selbst mitgebrachter Speisen und Getränke ist erlaubt.\nDer Eintri
 tt ist frei - Spenden zur Kostendeckung sind erwünscht.\nHinweis:\nBei sch
 lechter Wetterprognose findet die Veranstaltung im Kulturbahnhof Uslar\, A
 n der Eisenbahn 1\, 37170 Uslar statt.\n&nbsp\;
DTSTART:20230603T173000Z
DTEND:20230603T173000Z
GEO:+51.65995;+9.638527
LOCATION:Forstgarten Uslar
ORGANIZER:
SEQUENCE:1
SUMMARY:Picknick-Konzert mit nordischer Folkmusik von Fior
TRANSP:OPAQUE
URL:https://literatur-kunstkreis-uslar.de/index.php/programm/archiv/175-fol
 k-fior
END:VEVENT
END:VCALENDAR
