BEGIN:VCALENDAR
VERSION:2.0
PRODID:-//Literatur- und Kunstkreis Uslar e. V.//NONSGML kigkonsult.se iCalcreator 2.41.92//
CALSCALE:GREGORIAN
METHOD:PUBLISH
UID:35326361-3735-4831-b461-373366353338
X-WR-CALNAME:iCagenda
X-WR-CALDESC:Event Management Extension for Joomla!
X-WR-RELCALID:3E26604A-50F4-4449-8B3E-E4F4932D05B5
X-WR-TIMEZONE:Europe/Berlin
BEGIN:VTIMEZONE
TZID:Europe/Berlin
TZUNTIL:20241027T010000Z
BEGIN:STANDARD
TZNAME:CET
DTSTART:20221030T030000
TZOFFSETFROM:+0200
TZOFFSETTO:+0100
RDATE:20231029T030000
END:STANDARD
BEGIN:DAYLIGHT
TZNAME:CEST
DTSTART:20230326T020000
TZOFFSETFROM:+0100
TZOFFSETTO:+0200
RDATE:20240331T020000
END:DAYLIGHT
END:VTIMEZONE
BEGIN:VEVENT
UID:34333139-3661-4537-b333-336262313237
DTSTAMP:20260422T133829Z
CATEGORIES:2023
CLASS:PUBLIC
DESCRIPTION;ALTREP="CID:<FFFF__=0ABBE548DFE235B58f9e8a93d@coffeebean.com>":
 Mit Schmelz in der Stimme\, gestopfter Trompete und schmeichelnd swingende
 r Jazzgitarre präsentieren die Casanovas der norddeutschen Tiefebene ihre 
 Show „Die Männer sind schon die Liebe wert“. Musikalisch gekonnt und ungeh
 euer komisch.
DTSTART:20230421T173000Z
DTEND:20230421T173000Z
GEO:+51.654587;+9.655
LOCATION:Kulturbahnhof Uslar
ORGANIZER:
SEQUENCE:1
SUMMARY:Musik Comedy Bidla Buh: Die Männer sind schon die Liebe wert
TRANSP:OPAQUE
URL:https://literatur-kunstkreis-uslar.de/index.php/programm/archiv/176-mus
 ik-comedy-bidla-buh-die-maenner-sind-schon-die-liebe-wert
END:VEVENT
END:VCALENDAR
