BEGIN:VCALENDAR
VERSION:2.0
PRODID:-//Literatur- und Kunstkreis Uslar e. V.//NONSGML kigkonsult.se iCalcreator 2.41.92//
CALSCALE:GREGORIAN
METHOD:PUBLISH
UID:63636130-3737-4264-b036-616133386365
X-WR-CALNAME:iCagenda
X-WR-CALDESC:Event Management Extension for Joomla!
X-WR-RELCALID:3E26604A-50F4-4449-8B3E-E4F4932D05B5
X-WR-TIMEZONE:Europe/Berlin
BEGIN:VTIMEZONE
TZID:Europe/Berlin
TZUNTIL:20251026T010000Z
BEGIN:STANDARD
TZNAME:CET
DTSTART:20221030T030000
TZOFFSETFROM:+0200
TZOFFSETTO:+0100
RDATE:20231029T030000
RDATE:20241027T030000
END:STANDARD
BEGIN:DAYLIGHT
TZNAME:CEST
DTSTART:20230326T020000
TZOFFSETFROM:+0100
TZOFFSETTO:+0200
RDATE:20240331T020000
RDATE:20250330T020000
END:DAYLIGHT
END:VTIMEZONE
BEGIN:VEVENT
UID:35653130-6433-4763-b565-616161633361
DTSTAMP:20260422T133507Z
CATEGORIES:2023
CLASS:PUBLIC
DESCRIPTION;ALTREP="CID:<FFFF__=0ABBE548DFE235B58f9e8a93d@coffeebean.com>":
 Hier kommt Kurt Schwitters' dadaistisches Lautgedicht „Ursonate“ mit einem
  Vokabular aus archaisch wirkenden\, abstrakt worthaften Lautfolgen jensei
 ts von Begriff und Bedeutung\, gesprochen von Thomas Krüger (MdB). Begleit
 et wird dieser Text mit unbegrenztem Interpretationspotential von knackige
 m Jazz mit der Band Potsa Lotsa aus Berlin.
DTSTART:20231006T173000Z
DTEND:20231006T173000Z
GEO:+51.659328;+9.631804
LOCATION:Ev. Gemeindehaus Uslar
ORGANIZER:
SEQUENCE:1
SUMMARY:Jazz und Lesung: Ursonate - Dadaistisches Lautgedicht in 4 Sätzen
TRANSP:OPAQUE
URL:https://literatur-kunstkreis-uslar.de/index.php/programm/archiv/177-jaz
 z-und-lesung-ursonate
END:VEVENT
END:VCALENDAR
