BEGIN:VCALENDAR
VERSION:2.0
PRODID:-//Literatur- und Kunstkreis Uslar e. V.//NONSGML kigkonsult.se iCalcreator 2.41.92//
CALSCALE:GREGORIAN
METHOD:PUBLISH
UID:65363034-3835-4739-a565-656665623134
X-WR-CALNAME:iCagenda
X-WR-CALDESC:Event Management Extension for Joomla!
X-WR-RELCALID:3E26604A-50F4-4449-8B3E-E4F4932D05B5
X-WR-TIMEZONE:Europe/Berlin
BEGIN:VTIMEZONE
TZID:Europe/Berlin
TZUNTIL:20251026T010000Z
BEGIN:STANDARD
TZNAME:CET
DTSTART:20231029T030000
TZOFFSETFROM:+0200
TZOFFSETTO:+0100
RDATE:20241027T030000
END:STANDARD
BEGIN:DAYLIGHT
TZNAME:CEST
DTSTART:20230326T020000
TZOFFSETFROM:+0100
TZOFFSETTO:+0200
RDATE:20240331T020000
RDATE:20250330T020000
END:DAYLIGHT
END:VTIMEZONE
BEGIN:VEVENT
UID:63623730-3337-4136-a238-333963616234
DTSTAMP:20260422T133756Z
CATEGORIES:2023
CLASS:PUBLIC
DESCRIPTION;ALTREP="CID:<FFFF__=0ABBE548DFE235B58f9e8a93d@coffeebean.com>":
 Es wird gewählt in Deutschland. Wahlweise ein Parlament\, ein Senat\, ein 
 Bürgermeister\, ein Elternbeirat oder ein Gartenvorstand. Dabei darf man s
 ich nicht erwählen\, sonst hat man keinen Anschluss\, aber schnell einen A
 usschluss. Freuen Sie sich auf ein humorvoll – kritisches Programm der Lei
 pziger Pfeffermühle\, musikalisch bestückt mit vielen bekannten „ABBA-Song
 s“.
DTSTART:20231118T183000Z
DTEND:20231118T183000Z
GEO:+51.659328;+9.631804
LOCATION:Ev. Gemeindehaus Uslar
ORGANIZER:
SEQUENCE:1
SUMMARY:Kabarett: Leipziger Pfeffermühle 5 % Würde
TRANSP:OPAQUE
URL:https://literatur-kunstkreis-uslar.de/index.php/programm/archiv/180-kab
 arett-leipziger-pfeffermuehle-5-wuerde
END:VEVENT
END:VCALENDAR
