BEGIN:VCALENDAR
VERSION:2.0
PRODID:-//Literatur- und Kunstkreis Uslar e. V.//NONSGML kigkonsult.se iCalcreator 2.41.92//
CALSCALE:GREGORIAN
METHOD:PUBLISH
UID:35326232-3864-4836-b563-343866633732
X-WR-CALNAME:iCagenda
X-WR-CALDESC:Event Management Extension for Joomla!
X-WR-RELCALID:3E26604A-50F4-4449-8B3E-E4F4932D05B5
X-WR-TIMEZONE:Europe/Berlin
BEGIN:VTIMEZONE
TZID:Europe/Berlin
TZUNTIL:20250330T010000Z
BEGIN:STANDARD
TZNAME:CET
DTSTART:20221030T030000
TZOFFSETFROM:+0200
TZOFFSETTO:+0100
RDATE:20231029T030000
RDATE:20241027T030000
END:STANDARD
BEGIN:DAYLIGHT
TZNAME:CEST
DTSTART:20230326T020000
TZOFFSETFROM:+0100
TZOFFSETTO:+0200
RDATE:20240331T020000
END:DAYLIGHT
END:VTIMEZONE
BEGIN:VEVENT
UID:33366337-3633-4434-a333-383965393230
DTSTAMP:20260422T133757Z
CATEGORIES:2023
CLASS:PUBLIC
DESCRIPTION;ALTREP="CID:<FFFF__=0ABBE548DFE235B58f9e8a93d@coffeebean.com>":
 Constantin Schreiber moderiert die Tagesschau und wurde mit dem Grimme-Pre
 is ausgezeichnet. Zuletzt veröffentlichte er den Roman Die Kandidatin (202
 1)\, der ein Spiegel-Bestseller wurde. Schreiber liest aus seinem neusten 
 Buch „Glück im Unglück“ – Wie ich trotz schlechter Nachrichten optimistisc
 h bleibe.
DTSTART:20230908T173000Z
DTEND:20230908T173000Z
GEO:+51.667473;+9.631277
LOCATION:Forum Gymnasium Uslar
ORGANIZER:
SEQUENCE:1
SUMMARY:Lesung: Constantin Schreiber Glück im Unglück
TRANSP:OPAQUE
URL:https://literatur-kunstkreis-uslar.de/index.php/programm/archiv/181-les
 ung-constantin-schreiber-glueck-im-unglueck
END:VEVENT
END:VCALENDAR
