BEGIN:VCALENDAR
VERSION:2.0
PRODID:-//Literatur- und Kunstkreis Uslar e. V.//NONSGML kigkonsult.se iCalcreator 2.41.92//
CALSCALE:GREGORIAN
METHOD:PUBLISH
UID:61613337-3131-4565-a135-356633646665
X-WR-CALNAME:iCagenda
X-WR-CALDESC:Event Management Extension for Joomla!
X-WR-RELCALID:3E26604A-50F4-4449-8B3E-E4F4932D05B5
X-WR-TIMEZONE:Europe/Berlin
BEGIN:VTIMEZONE
TZID:Europe/Berlin
TZUNTIL:20251026T010000Z
BEGIN:STANDARD
TZNAME:CET
DTSTART:20231029T030000
TZOFFSETFROM:+0200
TZOFFSETTO:+0100
RDATE:20241027T030000
END:STANDARD
BEGIN:DAYLIGHT
TZNAME:CEST
DTSTART:20230326T020000
TZOFFSETFROM:+0100
TZOFFSETTO:+0200
RDATE:20240331T020000
RDATE:20250330T020000
END:DAYLIGHT
END:VTIMEZONE
BEGIN:VEVENT
UID:39336566-3233-4563-a664-336266613138
DTSTAMP:20260422T133622Z
CATEGORIES:2024
CLASS:PUBLIC
DESCRIPTION;ALTREP="CID:<FFFF__=0ABBE548DFE235B58f9e8a93d@coffeebean.com>":
 Mittlerweile nicht mehr aus dem Jahresanfang wegzudenken – ein Gastspiel d
 es Göttinger Symphonie Orchesters. Wie immer unter Leitung und sympathisch
 er Moderation von Nicholas Milton sowie mit Eva Hartová (Bild) als Soprani
 stin wird das Ensemble mit einem gut gelaunten Neujahrsprogramm begeistern
 .\nWatch USA online porn https://mat6tube.com teens\, milfs\, matures!
DTSTART:20240104T190000Z
DTEND:20240104T190000Z
GEO:+51.667473;+9.631277
LOCATION:Forum Gymnasium Uslar
ORGANIZER:
SEQUENCE:1
SUMMARY:Klassik: Neujahrskonzert GSO
TRANSP:OPAQUE
URL:https://literatur-kunstkreis-uslar.de/index.php/programm/archiv/182-kla
 ssik-neujahrskonzert-gso
END:VEVENT
END:VCALENDAR
