BEGIN:VCALENDAR
VERSION:2.0
PRODID:-//Literatur- und Kunstkreis Uslar e. V.//NONSGML kigkonsult.se iCalcreator 2.41.92//
CALSCALE:GREGORIAN
METHOD:PUBLISH
UID:62363130-3433-4466-a438-323334656663
X-WR-CALNAME:iCagenda
X-WR-CALDESC:Event Management Extension for Joomla!
X-WR-RELCALID:3E26604A-50F4-4449-8B3E-E4F4932D05B5
X-WR-TIMEZONE:Europe/Berlin
BEGIN:VTIMEZONE
TZID:Europe/Berlin
TZUNTIL:20251026T010000Z
BEGIN:STANDARD
TZNAME:CET
DTSTART:20221030T030000
TZOFFSETFROM:+0200
TZOFFSETTO:+0100
RDATE:20231029T030000
RDATE:20241027T030000
END:STANDARD
BEGIN:DAYLIGHT
TZNAME:CEST
DTSTART:20230326T020000
TZOFFSETFROM:+0100
TZOFFSETTO:+0200
RDATE:20240331T020000
RDATE:20250330T020000
END:DAYLIGHT
END:VTIMEZONE
BEGIN:VEVENT
UID:37303535-3630-4766-b866-386639316533
DTSTAMP:20260422T133624Z
CATEGORIES:2023
CLASS:PUBLIC
DESCRIPTION;ALTREP="CID:<FFFF__=0ABBE548DFE235B58f9e8a93d@coffeebean.com>":
 Drei Generationen von Friseuren\, die in Zeiten von Nationalsozialismus un
 d Nachkriegszeit bestehen müssen\, neu aufgebaute Existenzen mit ≫nichts a
 ls der Hände Arbeit≪: Ulrike Dotzers Roman Goldener Boden (Europa Verlag 2
 022) bietet fulminante Lebensgeschichten und erzählt von Auswanderung\, Rü
 ckkehr\, Neubeginn einer Familie\, deren Lebensgrundlage es ist\, Menschen
  schöner zu machen. Und so blicken wir mit ihnen und ihren Kundinnen in de
 n Spiegel und tauchen tief ein in spannende Biografien. Bei Andreas Hair D
 esign\, einem Traditionsfriseur in Uslar\, präsentiert Dotzer ihren Roman 
 im Gespräch mit der Journalistin Gudrun Porath.\nKooperationspartner:\n &n
 bsp\;&nbsp\; \nFoto (c) Burkhardt Hellwi\nWeitere Informationen zum Göttin
 ger Literaturherbst unter:&nbsp\;www.literaturherbst.com
DTSTART:20231028T170000Z
DTEND:20231028T170000Z
GEO:+51.634235;+9.659037
LOCATION:Andreas Hair Design Uslar-Schoningen
ORGANIZER:
SEQUENCE:1
SUMMARY:Ulrike Dotzer: Goldener Boden
TRANSP:OPAQUE
URL:https://literatur-kunstkreis-uslar.de/index.php/programm/archiv/183-ulr
 ike-dotzer-goldener-boden
END:VEVENT
END:VCALENDAR
