BEGIN:VCALENDAR
VERSION:2.0
PRODID:-//Literatur- und Kunstkreis Uslar e. V.//NONSGML kigkonsult.se iCalcreator 2.41.92//
CALSCALE:GREGORIAN
METHOD:PUBLISH
UID:36306137-3963-4739-b564-353736306236
X-WR-CALNAME:iCagenda
X-WR-CALDESC:Event Management Extension for Joomla!
X-WR-RELCALID:3E26604A-50F4-4449-8B3E-E4F4932D05B5
X-WR-TIMEZONE:Europe/Berlin
BEGIN:VTIMEZONE
TZID:Europe/Berlin
TZUNTIL:20251026T010000Z
BEGIN:STANDARD
TZNAME:CET
DTSTART:20231029T030000
TZOFFSETFROM:+0200
TZOFFSETTO:+0100
RDATE:20241027T030000
END:STANDARD
BEGIN:DAYLIGHT
TZNAME:CEST
DTSTART:20230326T020000
TZOFFSETFROM:+0100
TZOFFSETTO:+0200
RDATE:20240331T020000
RDATE:20250330T020000
END:DAYLIGHT
END:VTIMEZONE
BEGIN:VEVENT
UID:39646539-6633-4735-a435-346432363933
DTSTAMP:20260422T133324Z
CATEGORIES:2024
CLASS:PUBLIC
DESCRIPTION;ALTREP="CID:<FFFF__=0ABBE548DFE235B58f9e8a93d@coffeebean.com>":
 Northern Light nimmt das Publikum mit auf eine virtuose musikalische Reise
  durch ganz Nordeuropa. Mit dem Zusammenspiel aus Stimme\, Akkordeon\, Gei
 ge\, Flute\, Dudelsack und Bouzouki wird traditionellen Melodien Leben ein
 gehaucht\, Altes entdeckt und Neues geschaffen. Freuen Sie sich auf ein ei
 ndrucksvolles und unvergessliches Konzerterlebnis!
DTSTART:20240217T183000Z
DTEND:20240217T183000Z
GEO:+51.659328;+9.631804
LOCATION:Ev. Gemeindehaus Uslar
ORGANIZER:
SEQUENCE:1
SUMMARY:Folk: Northern Light
TRANSP:OPAQUE
URL:https://literatur-kunstkreis-uslar.de/index.php/programm/archiv/184-fol
 k-northern-light
END:VEVENT
END:VCALENDAR
