BEGIN:VCALENDAR
VERSION:2.0
PRODID:-//Literatur- und Kunstkreis Uslar e. V.//NONSGML kigkonsult.se iCalcreator 2.41.92//
CALSCALE:GREGORIAN
METHOD:PUBLISH
UID:39383135-6432-4734-b831-396333623036
X-WR-CALNAME:iCagenda
X-WR-CALDESC:Event Management Extension for Joomla!
X-WR-RELCALID:3E26604A-50F4-4449-8B3E-E4F4932D05B5
X-WR-TIMEZONE:Europe/Berlin
BEGIN:VTIMEZONE
TZID:Europe/Berlin
TZUNTIL:20251026T010000Z
BEGIN:STANDARD
TZNAME:CET
DTSTART:20231029T030000
TZOFFSETFROM:+0200
TZOFFSETTO:+0100
RDATE:20241027T030000
END:STANDARD
BEGIN:DAYLIGHT
TZNAME:CEST
DTSTART:20230326T020000
TZOFFSETFROM:+0100
TZOFFSETTO:+0200
RDATE:20240331T020000
RDATE:20250330T020000
END:DAYLIGHT
END:VTIMEZONE
BEGIN:VEVENT
UID:34633035-6438-4561-b034-656639376133
DTSTAMP:20260422T133540Z
CATEGORIES:2024
CLASS:PUBLIC
DESCRIPTION;ALTREP="CID:<FFFF__=0ABBE548DFE235B58f9e8a93d@coffeebean.com>":
 Mit betörendem Gesang und weiblichem Esprit bringen die Damen der Berliner
  Retro-A-Cappella-Band „Gretchens Antwort“ Grammophon und Publikum zum Glü
 hen\, wenn sie Swing\, Rap\, Charleston\, Pop\, Jazz und Rock wild mixen. 
 In ihrem Programm “Dreh den Swing auf!” tanzt Britney Spears im Bananenröc
 kchen und The Police’ s „Roxanne“ wird als perlenbestickter Flapper ins Ja
 zz-Rotlichtviertel geschickt.
DTSTART:20240308T183000Z
DTEND:20240308T183000Z
GEO:+51.667473;+9.631277
LOCATION:Forum Gymnasium Uslar
ORGANIZER:
SEQUENCE:1
SUMMARY:A-Cappella: Gretchens Antwort
TRANSP:OPAQUE
URL:https://literatur-kunstkreis-uslar.de/index.php/programm/archiv/185-a-c
 appella-gretchens-antwort
END:VEVENT
END:VCALENDAR
