BEGIN:VCALENDAR
VERSION:2.0
PRODID:-//Literatur- und Kunstkreis Uslar e. V.//NONSGML kigkonsult.se iCalcreator 2.41.92//
CALSCALE:GREGORIAN
METHOD:PUBLISH
UID:33613562-3139-4130-b831-373436383163
X-WR-CALNAME:iCagenda
X-WR-CALDESC:Event Management Extension for Joomla!
X-WR-RELCALID:3E26604A-50F4-4449-8B3E-E4F4932D05B5
X-WR-TIMEZONE:Europe/Berlin
BEGIN:VTIMEZONE
TZID:Europe/Berlin
TZUNTIL:20251026T010000Z
BEGIN:STANDARD
TZNAME:CET
DTSTART:20231029T030000
TZOFFSETFROM:+0200
TZOFFSETTO:+0100
RDATE:20241027T030000
END:STANDARD
BEGIN:DAYLIGHT
TZNAME:CEST
DTSTART:20230326T020000
TZOFFSETFROM:+0100
TZOFFSETTO:+0200
RDATE:20240331T020000
RDATE:20250330T020000
END:DAYLIGHT
END:VTIMEZONE
BEGIN:VEVENT
UID:64313730-6331-4466-b237-326336626266
DTSTAMP:20260422T133711Z
CATEGORIES:2024
CLASS:PUBLIC
DESCRIPTION;ALTREP="CID:<FFFF__=0ABBE548DFE235B58f9e8a93d@coffeebean.com>":
 Im Herzwald kommt ein kleines\, schnickeldischnuckeliges Einhorn zur Welt.
  Aber obwohl alle ganz lilalieb zu ihm sind und es ständig mit gezuckertem
  Glücksklee füttern\, benimmt sich das Tierchen ganz und gar nicht einhorn
 mäßig. Es sagt einfach immer Nein\, sodass seine Familie es bald nur noch 
 NEINhorn nennt. Gelesen wird das Wortspielplatzmeisterstück des durch die 
 Känguru-Chroniken bekannten Autors Marc-Uwe Kling von der Schauspielerin S
 usanne Rösch (Göttingen).\nIn Kooperation mit:\n&nbsp\;
DTSTART:20240314T100000Z
DTEND:20240314T113000Z
GEO:+51.665718;+9.738956
LOCATION:Grundschule Volpriehausen
ORGANIZER:
SEQUENCE:1
SUMMARY:Lesung: Das NEINhorn
TRANSP:OPAQUE
URL:https://literatur-kunstkreis-uslar.de/index.php/programm/archiv/187-les
 ung-das-neinhorn-volpriehausen
END:VEVENT
END:VCALENDAR
