BEGIN:VCALENDAR
VERSION:2.0
PRODID:-//Literatur- und Kunstkreis Uslar e. V.//NONSGML kigkonsult.se iCalcreator 2.41.92//
CALSCALE:GREGORIAN
METHOD:PUBLISH
UID:32333738-6439-4731-b833-323265363066
X-WR-CALNAME:iCagenda
X-WR-CALDESC:Event Management Extension for Joomla!
X-WR-RELCALID:3E26604A-50F4-4449-8B3E-E4F4932D05B5
X-WR-TIMEZONE:Europe/Berlin
BEGIN:VTIMEZONE
TZID:Europe/Berlin
TZUNTIL:20260329T010000Z
BEGIN:STANDARD
TZNAME:CET
DTSTART:20231029T030000
TZOFFSETFROM:+0200
TZOFFSETTO:+0100
RDATE:20241027T030000
RDATE:20251026T030000
END:STANDARD
BEGIN:DAYLIGHT
TZNAME:CEST
DTSTART:20240331T020000
TZOFFSETFROM:+0100
TZOFFSETTO:+0200
RDATE:20250330T020000
END:DAYLIGHT
END:VTIMEZONE
BEGIN:VEVENT
UID:38383034-3831-4430-a132-353865396264
DTSTAMP:20260422T133742Z
CATEGORIES:2024
CLASS:PUBLIC
DESCRIPTION;ALTREP="CID:<FFFF__=0ABBE548DFE235B58f9e8a93d@coffeebean.com>":
 'Von Toledo bis Jerusalem“ Eine musikalische Reise durch das Judentum sowi
 e israelische und spanisch-jüdische Musikkultur mit hebräischen\, sefardis
 chen und jiddischen Liedern mit Esther Lorenz und Peter Kuhz. Erläuterunge
 n über Bräuche\, Lyrikrezitationen und Streifzüge durch die jüdische Gesch
 ichte vom Mittelalter bis heute sowie die berühmte jüdische Prise Humor ve
 rvollständigen dieses kulturelle Kaleidoskop.
DTSTART:20240427T173000Z
DTEND:20240427T173000Z
GEO:+51.659328;+9.631804
LOCATION:Ev. Gemeindehaus Uslar
ORGANIZER:
SEQUENCE:1
SUMMARY:Musikalische Reise durch das Judentum
TRANSP:OPAQUE
URL:https://literatur-kunstkreis-uslar.de/index.php/programm/archiv/188-mus
 ikalische-reise-durch-das-judentum
END:VEVENT
END:VCALENDAR
