BEGIN:VCALENDAR
VERSION:2.0
PRODID:-//Literatur- und Kunstkreis Uslar e. V.//NONSGML kigkonsult.se iCalcreator 2.41.92//
CALSCALE:GREGORIAN
METHOD:PUBLISH
UID:37366137-6232-4936-b062-306339653261
X-WR-CALNAME:iCagenda
X-WR-CALDESC:Event Management Extension for Joomla!
X-WR-RELCALID:3E26604A-50F4-4449-8B3E-E4F4932D05B5
X-WR-TIMEZONE:Europe/Berlin
BEGIN:VTIMEZONE
TZID:Europe/Berlin
TZUNTIL:20260329T010000Z
BEGIN:STANDARD
TZNAME:CET
DTSTART:20231029T030000
TZOFFSETFROM:+0200
TZOFFSETTO:+0100
RDATE:20241027T030000
RDATE:20251026T030000
END:STANDARD
BEGIN:DAYLIGHT
TZNAME:CEST
DTSTART:20240331T020000
TZOFFSETFROM:+0100
TZOFFSETTO:+0200
RDATE:20250330T020000
END:DAYLIGHT
END:VTIMEZONE
BEGIN:VEVENT
UID:63323837-6661-4538-a334-313030393139
DTSTAMP:20260422T133341Z
CATEGORIES:2024
CLASS:PUBLIC
DESCRIPTION;ALTREP="CID:<FFFF__=0ABBE548DFE235B58f9e8a93d@coffeebean.com>":
 Das Herz des Singer-Songwriters Andreas Leinemann aus Duderstadt schlägt f
 ür die anglo-amerikanische Song-Kultur. Er begeistert mit dynamischem Gita
 rrenspiel\, stampfenden Rhythmen und seinem außergewöhnlichen Gesang\, mit
  dem er stimmgewaltig und einfühlsam zugleich sein Publikum berührt.
DTSTART:20240524T173000Z
DTEND:20240524T173000Z
GEO:+51.659603;+9.638527
LOCATION:Kleines Café
ORGANIZER:
SEQUENCE:1
SUMMARY:Andreas Leinemann
TRANSP:OPAQUE
URL:https://literatur-kunstkreis-uslar.de/index.php/programm/archiv/189-and
 reas-leinemann
END:VEVENT
END:VCALENDAR
