BEGIN:VCALENDAR
VERSION:2.0
PRODID:-//Literatur- und Kunstkreis Uslar e. V.//NONSGML kigkonsult.se iCalcreator 2.41.92//
CALSCALE:GREGORIAN
METHOD:PUBLISH
UID:39336430-6666-4931-b361-373039633162
X-WR-CALNAME:iCagenda
X-WR-CALDESC:Event Management Extension for Joomla!
X-WR-RELCALID:3E26604A-50F4-4449-8B3E-E4F4932D05B5
X-WR-TIMEZONE:Europe/Berlin
BEGIN:VTIMEZONE
TZID:Europe/Berlin
TZUNTIL:20121028T010000Z
BEGIN:STANDARD
TZNAME:CET
DTSTART:20101031T030000
TZOFFSETFROM:+0200
TZOFFSETTO:+0100
RDATE:20111030T030000
END:STANDARD
BEGIN:DAYLIGHT
TZNAME:CEST
DTSTART:20100328T020000
TZOFFSETFROM:+0100
TZOFFSETTO:+0200
RDATE:20110327T020000
RDATE:20120325T020000
END:DAYLIGHT
END:VTIMEZONE
BEGIN:VEVENT
UID:66343065-3232-4139-b433-646232353364
DTSTAMP:20260422T151557Z
CATEGORIES:2010
CLASS:PUBLIC
DESCRIPTION:
DTSTART:20101029T170000Z
DTEND:20101029T170000Z
GEO:+51.658916;+9.634664
LOCATION:Rathaussaal
ORGANIZER:
SEQUENCE:1
SUMMARY:Verleihung des 5. Uslarer Literaturpreises für junge Autoren
TRANSP:OPAQUE
URL:https://literatur-kunstkreis-uslar.de/index.php/programm/archiv/19-verl
 eihung-des-5-uslarer-literaturpreises-fuer-junge-autoren
END:VEVENT
END:VCALENDAR
