BEGIN:VCALENDAR
VERSION:2.0
PRODID:-//Literatur- und Kunstkreis Uslar e. V.//NONSGML kigkonsult.se iCalcreator 2.41.92//
CALSCALE:GREGORIAN
METHOD:PUBLISH
UID:30343639-3766-4735-b639-616362326565
X-WR-CALNAME:iCagenda
X-WR-CALDESC:Event Management Extension for Joomla!
X-WR-RELCALID:3E26604A-50F4-4449-8B3E-E4F4932D05B5
X-WR-TIMEZONE:Europe/Berlin
BEGIN:VTIMEZONE
TZID:Europe/Berlin
TZUNTIL:20260329T010000Z
BEGIN:STANDARD
TZNAME:CET
DTSTART:20231029T030000
TZOFFSETFROM:+0200
TZOFFSETTO:+0100
RDATE:20241027T030000
RDATE:20251026T030000
END:STANDARD
BEGIN:DAYLIGHT
TZNAME:CEST
DTSTART:20240331T020000
TZOFFSETFROM:+0100
TZOFFSETTO:+0200
RDATE:20250330T020000
END:DAYLIGHT
END:VTIMEZONE
BEGIN:VEVENT
UID:38373663-3239-4562-b437-313836336462
DTSTAMP:20260422T133105Z
CATEGORIES:2024
CLASS:PUBLIC
DESCRIPTION;ALTREP="CID:<FFFF__=0ABBE548DFE235B58f9e8a93d@coffeebean.com>":
 „THE LOOP“ ist eine Rory-Gallagher-Tribute-Band\, die die Musik des irisch
 en Bluesrock-Gitarristen bei ihren Konzerten wiederaufleben lässt. THE LOO
 P überzeugen durch ihre typische dynamische Spielweise und den erdigen Sou
 nd\, mit dem sie bei jedem Gig eine einmalig dichte Atmosphäre zwischen si
 ch und Publikum aufbauen.
DTSTART:20240622T180000Z
DTEND:20240622T180000Z
GEO:+51.658863;+9.634404
LOCATION:Altes Rathaus Uslar
ORGANIZER:
SEQUENCE:1
SUMMARY:Blues: The Loop
TRANSP:OPAQUE
URL:https://literatur-kunstkreis-uslar.de/index.php/programm/archiv/190-blu
 es-the-loop
END:VEVENT
END:VCALENDAR
