BEGIN:VCALENDAR
VERSION:2.0
PRODID:-//Literatur- und Kunstkreis Uslar e. V.//NONSGML kigkonsult.se iCalcreator 2.41.92//
CALSCALE:GREGORIAN
METHOD:PUBLISH
UID:32353963-3436-4435-b863-393433366338
X-WR-CALNAME:iCagenda
X-WR-CALDESC:Event Management Extension for Joomla!
X-WR-RELCALID:3E26604A-50F4-4449-8B3E-E4F4932D05B5
X-WR-TIMEZONE:Europe/Berlin
BEGIN:VTIMEZONE
TZID:Europe/Berlin
TZUNTIL:20260329T010000Z
BEGIN:STANDARD
TZNAME:CET
DTSTART:20231029T030000
TZOFFSETFROM:+0200
TZOFFSETTO:+0100
RDATE:20241027T030000
RDATE:20251026T030000
END:STANDARD
BEGIN:DAYLIGHT
TZNAME:CEST
DTSTART:20240331T020000
TZOFFSETFROM:+0100
TZOFFSETTO:+0200
RDATE:20250330T020000
END:DAYLIGHT
END:VTIMEZONE
BEGIN:VEVENT
UID:38623034-6265-4061-b235-313137346332
DTSTAMP:20260422T133147Z
CATEGORIES:2024
CLASS:PUBLIC
DESCRIPTION;ALTREP="CID:<FFFF__=0ABBE548DFE235B58f9e8a93d@coffeebean.com>":
 Tagesschau-Nachrichtensprecher Thorsten Schröder schafft 2017 als einer vo
 n nur wenigen Deutschen die Qualifikation für den legendärsten Triathlon d
 er Welt: den Ironman auf Hawaii. In seinem Buch erzählt er vom langen Weg 
 zum Zieleinlauf: von der tragischen Diagnose in seiner Jugend\, die ihn zu
 m Schwimmen\, Radfahren und Laufen bringt\, vom Alltag zwischen Tagesschau
  und Trainingscamp\, von Rückschlägen und Entbehrungen. Aber auch vom Glüc
 k\, an sich selbst zu wachsen und der Freude\, den eigenen Körper zu spüre
 n.
DTSTART:20240906T173000Z
DTEND:20240906T173000Z
GEO:+51.667473;+9.631277
LOCATION:Forum Gymnasium Uslar
ORGANIZER:
SEQUENCE:1
SUMMARY:Thorsten Schröder
TRANSP:OPAQUE
URL:https://literatur-kunstkreis-uslar.de/index.php/programm/archiv/191-tho
 rsten-schroeder
END:VEVENT
END:VCALENDAR
