BEGIN:VCALENDAR
VERSION:2.0
PRODID:-//Literatur- und Kunstkreis Uslar e. V.//NONSGML kigkonsult.se iCalcreator 2.41.92//
CALSCALE:GREGORIAN
METHOD:PUBLISH
UID:39636662-3430-4538-b438-333034643431
X-WR-CALNAME:iCagenda
X-WR-CALDESC:Event Management Extension for Joomla!
X-WR-RELCALID:3E26604A-50F4-4449-8B3E-E4F4932D05B5
X-WR-TIMEZONE:Europe/Berlin
BEGIN:VTIMEZONE
TZID:Europe/Berlin
TZUNTIL:20261025T010000Z
BEGIN:STANDARD
TZNAME:CET
DTSTART:20231029T030000
TZOFFSETFROM:+0200
TZOFFSETTO:+0100
RDATE:20241027T030000
RDATE:20251026T030000
END:STANDARD
BEGIN:DAYLIGHT
TZNAME:CEST
DTSTART:20240331T020000
TZOFFSETFROM:+0100
TZOFFSETTO:+0200
RDATE:20250330T020000
RDATE:20260329T020000
END:DAYLIGHT
END:VTIMEZONE
BEGIN:VEVENT
UID:36646566-3465-4436-b135-653631366338
DTSTAMP:20260422T133328Z
CATEGORIES:2024
CLASS:PUBLIC
DESCRIPTION;ALTREP="CID:<FFFF__=0ABBE548DFE235B58f9e8a93d@coffeebean.com>":
 Verschiedene Leserinnen und Leser stellen Bücher vor\, die sie lieben und 
 anderen empfehlen möchten. Dazu wird gut gegessen und es gibt angenehme Mu
 sik von Malte Hollmann (Bild).Das wird ein runder Abend!
DTSTART:20241019T173000Z
DTEND:20241019T173000Z
GEO:+51.651726;+9.650162
LOCATION:DGA Allershausen
ORGANIZER:
SEQUENCE:1
SUMMARY:Buch - Essen - Musik
TRANSP:OPAQUE
URL:https://literatur-kunstkreis-uslar.de/index.php/programm/archiv/192-buc
 h-essen-musik
END:VEVENT
END:VCALENDAR
