BEGIN:VCALENDAR
VERSION:2.0
PRODID:-//Literatur- und Kunstkreis Uslar e. V.//NONSGML kigkonsult.se iCalcreator 2.41.92//
CALSCALE:GREGORIAN
METHOD:PUBLISH
UID:63383032-6466-4439-a464-626265323735
X-WR-CALNAME:iCagenda
X-WR-CALDESC:Event Management Extension for Joomla!
X-WR-RELCALID:3E26604A-50F4-4449-8B3E-E4F4932D05B5
X-WR-TIMEZONE:Europe/Berlin
BEGIN:VTIMEZONE
TZID:Europe/Berlin
TZUNTIL:20261025T010000Z
BEGIN:STANDARD
TZNAME:CET
DTSTART:20231029T030000
TZOFFSETFROM:+0200
TZOFFSETTO:+0100
RDATE:20241027T030000
RDATE:20251026T030000
END:STANDARD
BEGIN:DAYLIGHT
TZNAME:CEST
DTSTART:20240331T020000
TZOFFSETFROM:+0100
TZOFFSETTO:+0200
RDATE:20250330T020000
RDATE:20260329T020000
END:DAYLIGHT
END:VTIMEZONE
BEGIN:VEVENT
UID:61623733-3135-4439-a662-373962666465
DTSTAMP:20260422T133758Z
CATEGORIES:2024
CLASS:PUBLIC
DESCRIPTION;ALTREP="CID:<FFFF__=0ABBE548DFE235B58f9e8a93d@coffeebean.com>":
 Reinhold Beckmann ist Singer/Songwriter\, Musiker aus Leidenschaft und ein
  packender Geschichtenerzähler. Wer schon einmal die Gelegenheit hatte\, i
 hn auf der Bühne zu erleben\, weiß\, dass er abliefert\, die Leute mitnimm
 t und einfach prächtig unterhält.\nReinhold Beckmann präsentiert sein drit
 tes Album „Haltbar bis Ende“ – und eine Song-Kollektion\, die immer wieder
  überrascht.\nTiefgang und Leichtigkeit gehen Hand in Hand\, allenthalben 
 akustische und textliche Feinheiten. Dazwischen zeigt sich Beckmann\, der 
 Musiker\, auch als charmanter Unterhalter\, plaudert locker aus der Hüfte 
 und sorgt dafür\, dass alle eine gute Zeit haben.\n„Ich liebe es einfach\,
  live zu spielen. Diese enge Verbindung zum Publikum genieße ich sehr. Jed
 er Abend hat seine eigene Dynamik. Und wenn am Ende alle stehen und mitsin
 gen\, haben wir einen guten Job gemacht.“
DTSTART:20240927T173000Z
DTEND:20240927T173000Z
GEO:+51.667473;+9.631277
LOCATION:Forum Gymnasium Uslar
ORGANIZER:
SEQUENCE:1
SUMMARY:Reinhold Beckmann & Band: 'Haltbar bis Ende'
TRANSP:OPAQUE
URL:https://literatur-kunstkreis-uslar.de/index.php/programm/archiv/194-rei
 nhold-beckmann-band-haltbar-bis-ende
END:VEVENT
END:VCALENDAR
