BEGIN:VCALENDAR
VERSION:2.0
PRODID:-//Literatur- und Kunstkreis Uslar e. V.//NONSGML kigkonsult.se iCalcreator 2.41.92//
CALSCALE:GREGORIAN
METHOD:PUBLISH
UID:39363836-6331-4662-a364-656335393339
X-WR-CALNAME:iCagenda
X-WR-CALDESC:Event Management Extension for Joomla!
X-WR-RELCALID:3E26604A-50F4-4449-8B3E-E4F4932D05B5
X-WR-TIMEZONE:Europe/Berlin
BEGIN:VTIMEZONE
TZID:Europe/Berlin
TZUNTIL:20261025T010000Z
BEGIN:STANDARD
TZNAME:CET
DTSTART:20241027T030000
TZOFFSETFROM:+0200
TZOFFSETTO:+0100
RDATE:20251026T030000
END:STANDARD
BEGIN:DAYLIGHT
TZNAME:CEST
DTSTART:20240331T020000
TZOFFSETFROM:+0100
TZOFFSETTO:+0200
RDATE:20250330T020000
RDATE:20260329T020000
END:DAYLIGHT
END:VTIMEZONE
BEGIN:VEVENT
UID:39653435-3963-4930-b134-663339666632
DTSTAMP:20260422T133628Z
CATEGORIES:2025
CLASS:PUBLIC
DESCRIPTION;ALTREP="CID:<FFFF__=0ABBE548DFE235B58f9e8a93d@coffeebean.com>":
 Zum 200. Geburtstag von Johann Strauß verspricht das Göttinger Symphonieor
 chester bei seinem mittlerweile traditionellen\, fulminanten Neujahrskonze
 rt in Uslar einen heiteren Jahresauftakt. Wie immer unter Leitung und symp
 athischer Moderation von Nicholas Milton sowie mit der jungen ukrainischen
  Polina Tarasenko (Bild) als virtuoser Posaunistin.
DTSTART:20250114T190000Z
DTEND:20250114T210000Z
GEO:+51.667328;+9.631314
LOCATION:Forum Gymnasium Uslar
ORGANIZER:
SEQUENCE:1
SUMMARY:Neujahrskonzert des GSO
TRANSP:OPAQUE
URL:https://literatur-kunstkreis-uslar.de/index.php/programm/archiv/195-neu
 jahrskonzert-des-gso-2025
END:VEVENT
END:VCALENDAR
