BEGIN:VCALENDAR
VERSION:2.0
PRODID:-//Literatur- und Kunstkreis Uslar e. V.//NONSGML kigkonsult.se iCalcreator 2.41.92//
CALSCALE:GREGORIAN
METHOD:PUBLISH
UID:33646264-3237-4163-b837-343233346535
X-WR-CALNAME:iCagenda
X-WR-CALDESC:Event Management Extension for Joomla!
X-WR-RELCALID:3E26604A-50F4-4449-8B3E-E4F4932D05B5
X-WR-TIMEZONE:Europe/Berlin
BEGIN:VTIMEZONE
TZID:Europe/Berlin
TZUNTIL:20261025T010000Z
BEGIN:STANDARD
TZNAME:CET
DTSTART:20241027T030000
TZOFFSETFROM:+0200
TZOFFSETTO:+0100
RDATE:20251026T030000
END:STANDARD
BEGIN:DAYLIGHT
TZNAME:CEST
DTSTART:20240331T020000
TZOFFSETFROM:+0100
TZOFFSETTO:+0200
RDATE:20250330T020000
RDATE:20260329T020000
END:DAYLIGHT
END:VTIMEZONE
BEGIN:VEVENT
UID:66626334-3961-4230-a536-656165356133
DTSTAMP:20260422T133221Z
CATEGORIES:2025
CLASS:PUBLIC
DESCRIPTION;ALTREP="CID:<FFFF__=0ABBE548DFE235B58f9e8a93d@coffeebean.com>":
 Musikkabarett vom Feinsten: Ob Gedicht oder Klavierlied - der Komiker Marc
 o Tschirpke weiß sich kurzzufassen. Gespickt mit Verweisen auf Kunst und G
 eschichte\, bedeutet ein Abend mit dem Gewinner des Deutschen Kleinkunstpr
 eises 2018 vor allem ein intellektuelles Vergnügen.
DTSTART:20250124T183000Z
DTEND:20250124T183000Z
GEO:+51.659306;+9.631763
LOCATION:Ev. Gemeindehaus Uslar
ORGANIZER:
SEQUENCE:1
SUMMARY:Marco Tschirpke
TRANSP:OPAQUE
URL:https://literatur-kunstkreis-uslar.de/index.php/programm/archiv/196-mar
 co-tschirpke
END:VEVENT
END:VCALENDAR
