BEGIN:VCALENDAR
VERSION:2.0
PRODID:-//Literatur- und Kunstkreis Uslar e. V.//NONSGML kigkonsult.se iCalcreator 2.41.92//
CALSCALE:GREGORIAN
METHOD:PUBLISH
UID:36373334-6334-4531-a338-336366613737
X-WR-CALNAME:iCagenda
X-WR-CALDESC:Event Management Extension for Joomla!
X-WR-RELCALID:3E26604A-50F4-4449-8B3E-E4F4932D05B5
X-WR-TIMEZONE:Europe/Berlin
BEGIN:VTIMEZONE
TZID:Europe/Berlin
TZUNTIL:20270328T010000Z
BEGIN:STANDARD
TZNAME:CET
DTSTART:20241027T030000
TZOFFSETFROM:+0200
TZOFFSETTO:+0100
RDATE:20251026T030000
RDATE:20261025T030000
END:STANDARD
BEGIN:DAYLIGHT
TZNAME:CEST
DTSTART:20250330T020000
TZOFFSETFROM:+0100
TZOFFSETTO:+0200
RDATE:20260329T020000
END:DAYLIGHT
END:VTIMEZONE
BEGIN:VEVENT
UID:33343864-3862-4539-b130-306236303132
DTSTAMP:20260422T120318Z
CATEGORIES:2025
CLASS:PUBLIC
DESCRIPTION;ALTREP="CID:<FFFF__=0ABBE548DFE235B58f9e8a93d@coffeebean.com>":
 \n\nNeuer Termin\n\n\nUpdate vom 08.02.2025\nAlt: Donnerstag\, 20.02.2025 
 Neu: Donnerstag\, 15.05.2025\nWichtiger Hinweis:\nNach dem Brand im Gymnas
 ium Uslar ist derzeit die Heizungssteuerung für das Forum noch nicht wiede
 r in Betrieb. Alle gekauften Karten sind auch für den Ersatztermin gültig.
  Sofern der Ersatztermin nicht wahrgenommen werden kann\, können sich Kart
 eninhaber an&nbsp\;Kartenservice@Literatur-Kunstkreis-Uslar.de wenden.\n\n
 \n'1995 fing es an\, auf einer Semesterparty dann und wann .. . '\, und se
 itdem begeistern drei Männer und eine Frau aus Norddeutschland nur mit ihr
 en Stimmen und grenzenloser Kreativität ihre große Musik und Comedy-Fangem
 einde in der gesamten Republik. Laielu\, das einzigartige A cappella comed
 y-Quartett aus Hamburg\, feiert 30-jähriges Bühnenjubiläum und ist damit e
 ine der wenigen Bands mit einer solch dauerhaften Erfolgsgeschichte.
DTSTART:20250515T173000Z
DTEND:20250515T193000Z
GEO:+51.667328;+9.631314
LOCATION:Forum Gymnasium Uslar
ORGANIZER:
SEQUENCE:1
SUMMARY:LaLeLu: 30 Jahre
TRANSP:OPAQUE
URL:https://literatur-kunstkreis-uslar.de/index.php/programm/archiv/197-lal
 elu-30-jahre
END:VEVENT
END:VCALENDAR
