BEGIN:VCALENDAR
VERSION:2.0
PRODID:-//Literatur- und Kunstkreis Uslar e. V.//NONSGML kigkonsult.se iCalcreator 2.41.92//
CALSCALE:GREGORIAN
METHOD:PUBLISH
UID:65303631-3532-4135-b065-363065633761
X-WR-CALNAME:iCagenda
X-WR-CALDESC:Event Management Extension for Joomla!
X-WR-RELCALID:3E26604A-50F4-4449-8B3E-E4F4932D05B5
X-WR-TIMEZONE:Europe/Berlin
BEGIN:VTIMEZONE
TZID:Europe/Berlin
TZUNTIL:20270328T010000Z
BEGIN:STANDARD
TZNAME:CET
DTSTART:20241027T030000
TZOFFSETFROM:+0200
TZOFFSETTO:+0100
RDATE:20251026T030000
RDATE:20261025T030000
END:STANDARD
BEGIN:DAYLIGHT
TZNAME:CEST
DTSTART:20250330T020000
TZOFFSETFROM:+0100
TZOFFSETTO:+0200
RDATE:20260329T020000
END:DAYLIGHT
END:VTIMEZONE
BEGIN:VEVENT
UID:31306237-3462-4330-b634-613031313832
DTSTAMP:20260422T133744Z
CATEGORIES:2025
CLASS:PUBLIC
DESCRIPTION;ALTREP="CID:<FFFF__=0ABBE548DFE235B58f9e8a93d@coffeebean.com>":
 Allzeit bereit unterstützen Hunde uns Menschen bei alltäglichen Aufgaben u
 nd Problemen. Die felligen Helfer sind immer zur Stelle! Aber was genau ma
 cht eine Diabetikerwarnhündin oder ein Epilepsiewarnhund? Natürlich darf F
 ilou\, der Hund des Autors\, im Buch und bei der Lesung nicht fehlen.\nIn 
 Kooperation mit:\n&nbsp\;
DTSTART:20250505T070000Z
DTEND:20250505T083000Z
GEO:+51.665592;+9.739195
LOCATION:Grundschule Volpriehausen
ORGANIZER:
SEQUENCE:1
SUMMARY:Henrick Clausen: Lesung mit Hund
TRANSP:OPAQUE
URL:https://literatur-kunstkreis-uslar.de/index.php/programm/archiv/199-hen
 rick-clausen-lesung-mit-hund-2
END:VEVENT
END:VCALENDAR
