BEGIN:VCALENDAR
VERSION:2.0
PRODID:-//Literatur- und Kunstkreis Uslar e. V.//NONSGML kigkonsult.se iCalcreator 2.41.92//
CALSCALE:GREGORIAN
METHOD:PUBLISH
UID:38633736-3130-4066-a134-373231323432
X-WR-CALNAME:iCagenda
X-WR-CALDESC:Event Management Extension for Joomla!
X-WR-RELCALID:3E26604A-50F4-4449-8B3E-E4F4932D05B5
X-WR-TIMEZONE:Europe/Berlin
BEGIN:VTIMEZONE
TZID:Europe/Berlin
TZUNTIL:20101031T010000Z
BEGIN:STANDARD
TZNAME:CET
DTSTART:20081026T030000
TZOFFSETFROM:+0200
TZOFFSETTO:+0100
RDATE:20091025T030000
END:STANDARD
BEGIN:DAYLIGHT
TZNAME:CEST
DTSTART:20080330T020000
TZOFFSETFROM:+0100
TZOFFSETTO:+0200
RDATE:20090329T020000
RDATE:20100328T020000
END:DAYLIGHT
END:VTIMEZONE
BEGIN:VEVENT
UID:33303033-3732-4635-b462-366334356163
DTSTAMP:20260422T133334Z
CATEGORIES:2009
CLASS:PUBLIC
DESCRIPTION:
DTSTART:20090320T190000Z
DTEND:20090320T190000Z
GEO:+51.654633;+9.655201
LOCATION:Kulturbahnhof Uslar
ORGANIZER:
SEQUENCE:1
SUMMARY:'Kassandra nach Christa Wolf'
TRANSP:OPAQUE
URL:https://literatur-kunstkreis-uslar.de/index.php/programm/archiv/2-kassa
 ndra-nach-christa-wolf
END:VEVENT
END:VCALENDAR
