BEGIN:VCALENDAR
VERSION:2.0
PRODID:-//Literatur- und Kunstkreis Uslar e. V.//NONSGML kigkonsult.se iCalcreator 2.41.92//
CALSCALE:GREGORIAN
METHOD:PUBLISH
UID:37356139-6539-4536-a333-323535653135
X-WR-CALNAME:iCagenda
X-WR-CALDESC:Event Management Extension for Joomla!
X-WR-RELCALID:3E26604A-50F4-4449-8B3E-E4F4932D05B5
X-WR-TIMEZONE:Europe/Berlin
BEGIN:VTIMEZONE
TZID:Europe/Berlin
TZUNTIL:20261025T010000Z
BEGIN:STANDARD
TZNAME:CET
DTSTART:20241027T030000
TZOFFSETFROM:+0200
TZOFFSETTO:+0100
RDATE:20251026T030000
END:STANDARD
BEGIN:DAYLIGHT
TZNAME:CEST
DTSTART:20240331T020000
TZOFFSETFROM:+0100
TZOFFSETTO:+0200
RDATE:20250330T020000
RDATE:20260329T020000
END:DAYLIGHT
END:VTIMEZONE
BEGIN:VEVENT
UID:32646636-6338-4532-b631-653237393862
DTSTAMP:20260422T133625Z
CATEGORIES:2025
CLASS:PUBLIC
DESCRIPTION;ALTREP="CID:<FFFF__=0ABBE548DFE235B58f9e8a93d@coffeebean.com>":
 Gewitzte Zauberkunst:Hannovers Meister-Mogler geht mit seinem Publikum auf
  einen fröhlichentspannten Kurztrip voller wilder Wendungen\, mit neuen tr
 ügerischen Tricks und frischen Ideen. Dieser Abend wird fein geschliffen l
 ustig\, treffend satirisch - aber auch komplett albern\, immer wieder ganz
  spontan\, manchmal berührend emotional. Sowie sowieso total verblüffend.
DTSTART:20250329T183000Z
DTEND:20250329T183000Z
GEO:+51.659306;+9.631763
LOCATION:Ev. Gemeindehaus Uslar
ORGANIZER:
SEQUENCE:1
SUMMARY:Desimo: Klug und Trug
TRANSP:OPAQUE
URL:https://literatur-kunstkreis-uslar.de/index.php/programm/archiv/200-des
 imo-klug-und-trug
END:VEVENT
END:VCALENDAR
