BEGIN:VCALENDAR
VERSION:2.0
PRODID:-//Literatur- und Kunstkreis Uslar e. V.//NONSGML kigkonsult.se iCalcreator 2.41.92//
CALSCALE:GREGORIAN
METHOD:PUBLISH
UID:37323566-3265-4666-a233-396231373532
X-WR-CALNAME:iCagenda
X-WR-CALDESC:Event Management Extension for Joomla!
X-WR-RELCALID:3E26604A-50F4-4449-8B3E-E4F4932D05B5
X-WR-TIMEZONE:Europe/Berlin
BEGIN:VTIMEZONE
TZID:Europe/Berlin
TZUNTIL:20270328T010000Z
BEGIN:STANDARD
TZNAME:CET
DTSTART:20241027T030000
TZOFFSETFROM:+0200
TZOFFSETTO:+0100
RDATE:20251026T030000
RDATE:20261025T030000
END:STANDARD
BEGIN:DAYLIGHT
TZNAME:CEST
DTSTART:20250330T020000
TZOFFSETFROM:+0100
TZOFFSETTO:+0200
RDATE:20260329T020000
END:DAYLIGHT
END:VTIMEZONE
BEGIN:VEVENT
UID:65303833-6563-4063-b464-383236306532
DTSTAMP:20260422T133333Z
CATEGORIES:2025
CLASS:PUBLIC
DESCRIPTION;ALTREP="CID:<FFFF__=0ABBE548DFE235B58f9e8a93d@coffeebean.com>":
 Seit 2001 auf Tournee\, über 700 Konzerte. Sie mögen's ursprünglich. Irish
  Folk in Reinform - dafür stehen die STOKES. Wortreich\, stimmgewaltig\, l
 eidenschaftlich und mit viel Gefühl für das Herz der Menschen auf der grün
 en Insel formulieren sie immer wieder aufs Neue eine musikalische Liebeser
 klärung an ein Land und seine kulturelle Tradition.
DTSTART:20250426T173000Z
DTEND:20250426T173000Z
GEO:+51.659306;+9.631763
LOCATION:Ev. Gemeindehaus Uslar
ORGANIZER:
SEQUENCE:1
SUMMARY:Folk: The Stokes
TRANSP:OPAQUE
URL:https://literatur-kunstkreis-uslar.de/index.php/programm/archiv/201-fol
 k-the-stokes
END:VEVENT
END:VCALENDAR
