BEGIN:VCALENDAR
VERSION:2.0
PRODID:-//Literatur- und Kunstkreis Uslar e. V.//NONSGML kigkonsult.se iCalcreator 2.41.92//
CALSCALE:GREGORIAN
METHOD:PUBLISH
UID:65393833-6433-4339-a537-336137323665
X-WR-CALNAME:iCagenda
X-WR-CALDESC:Event Management Extension for Joomla!
X-WR-RELCALID:3E26604A-50F4-4449-8B3E-E4F4932D05B5
X-WR-TIMEZONE:Europe/Berlin
BEGIN:VTIMEZONE
TZID:Europe/Berlin
TZUNTIL:20271031T010000Z
BEGIN:STANDARD
TZNAME:CET
DTSTART:20251026T030000
TZOFFSETFROM:+0200
TZOFFSETTO:+0100
RDATE:20261025T030000
END:STANDARD
BEGIN:DAYLIGHT
TZNAME:CEST
DTSTART:20250330T020000
TZOFFSETFROM:+0100
TZOFFSETTO:+0200
RDATE:20260329T020000
RDATE:20270328T020000
END:DAYLIGHT
END:VTIMEZONE
BEGIN:VEVENT
UID:66313434-3135-4632-b636-393631646565
DTSTAMP:20260422T120255Z
CATEGORIES:2025
CLASS:PUBLIC
DESCRIPTION;ALTREP="CID:<FFFF__=0ABBE548DFE235B58f9e8a93d@coffeebean.com>":
 \n\nNeues Programm\n\n\nUpdate vom 25.05.2025\nNeu: Harakiri To Go\nWichti
 ger Hinweis:\nWegen interner Umplanungen hat die Leipziger Pfeffermühle (1
 5. November 2025) ihr Programm für Uslar geändert.\n\n\nDer neuste Streich
  aus dem Gewürzkoffer der Leipziger Pfeffermühle. Wir sitzen in Haft. In L
 achhaft. Die Welt hält sich den Bauch vor Lachen - Deutschland macht mal w
 ieder Spaß. Wir sind der Vorreiter auf dem Schlachtross. Der Staat geht vo
 ran\, aber der Bürger kommt nicht mehr mit. Jeder hat eine Meinung\, aber 
 keine Ahnung. Wir lassen uns jede Menge einfallen – auch unsere Brücken. F
 rüher wurde die Bahn geschätzt\, heute schätzt man die Fahrzeiten. E-Mail\
 , E-Auto\, E-Goisten. Wir machen weiter\, als ob es kein Morgen gäbe. Denn
  noch ist nicht aller Tage Abend. Der Bürger versüßt sich sein Leben mit P
 ustekuchen. Die Regierung ratlos - das Volk lustlos. Die Demokratie macht 
 sich vom Acker und der Bauer macht sich auf die Socken. Die Boomer treten 
 in den Schatten und die Jugend hat keinen blassen Schimmer. Wir warten auf
  das Wirtschaftswunder und erleben unser blaues. Mancher fühlt sich fremd 
 im eigenen Land\, andere benehmen sich wie zu Hause. Der Kanzler schüttelt
  Hände\, dass Volk schüttelt den Kopf. Nicht mit uns - aber mit wem dann? 
 Witzlos? Ganz im Gegenteil. Die Pfeffermühle hustet dem Zeitgeist was. Den
 n Husten ist nur das Lachen\, dass uns im Halse stecken bleibt.\nHARAKIRI 
 TO GO ein Programm\, das die Krise in die komische Krise bringt. Scherztro
 pfen gegen Kopfweh. Kichern für den Frieden. Spielfreude\, Musikalität\, G
 rips und Witz. Jung\, frech und unverblümt. Lachen sie sich mal aus. Wir f
 reuen uns über Ihren Besuch.\nEs spielen:&nbsp\;&nbsp\;&nbsp\; \nSabine Kü
 hne – Londa\nAnnemarie Schmidt\nBenjamin Turecek\nHartmut Schwarze (Piano)
 \nRegie: Thorsten Wolf\nEine Produktion der Leipziger Pfeffermühle gGmbH\n
 Premiere am 20.02.2025\n&nbsp\;\n&nbsp\;
DTSTART:20251115T183000Z
DTEND:20251115T183000Z
GEO:+51.659306;+9.631763
LOCATION:Ev. Gemeindehaus Uslar
ORGANIZER:
SEQUENCE:1
SUMMARY:Leipziger Pfeffermühle: Harakiri To Go
TRANSP:OPAQUE
URL:https://literatur-kunstkreis-uslar.de/index.php/programm/archiv/205-lei
 pziger-pfeffermuehle-2
END:VEVENT
END:VCALENDAR
