BEGIN:VCALENDAR
VERSION:2.0
PRODID:-//Literatur- und Kunstkreis Uslar e. V.//NONSGML kigkonsult.se iCalcreator 2.41.92//
CALSCALE:GREGORIAN
METHOD:PUBLISH
UID:63326332-3066-4362-a637-356539613932
X-WR-CALNAME:iCagenda
X-WR-CALDESC:Event Management Extension for Joomla!
X-WR-RELCALID:3E26604A-50F4-4449-8B3E-E4F4932D05B5
X-WR-TIMEZONE:Europe/Berlin
BEGIN:VTIMEZONE
TZID:Europe/Berlin
TZUNTIL:20270328T010000Z
BEGIN:STANDARD
TZNAME:CET
DTSTART:20241027T030000
TZOFFSETFROM:+0200
TZOFFSETTO:+0100
RDATE:20251026T030000
RDATE:20261025T030000
END:STANDARD
BEGIN:DAYLIGHT
TZNAME:CEST
DTSTART:20250330T020000
TZOFFSETFROM:+0100
TZOFFSETTO:+0200
RDATE:20260329T020000
END:DAYLIGHT
END:VTIMEZONE
BEGIN:VEVENT
UID:32306335-3335-4963-a337-656662663332
DTSTAMP:20260422T133542Z
CATEGORIES:2025
CLASS:PUBLIC
DESCRIPTION;ALTREP="CID:<FFFF__=0ABBE548DFE235B58f9e8a93d@coffeebean.com>":
 Mit seinem Politthriller-Debüt „Die Übermacht“ überträgt er 2024 seine Lus
 t am spannungsvollen Geschichtenerzählen sowie seine Faszination für Mensc
 hen\, ihre Geschichten und ihre Abgründe bei dem Streben nach Macht und Ru
 hm in die Welt der Literatur. Der Roman wurde in der Kategorie Debütroman 
 für einen der renommiertesten deutschen Buchpreise\, den GLAUSER 2025\, no
 miniert.
DTSTART:20250510T173000Z
DTEND:20250510T173000Z
GEO:+51.688622;+9.560363
LOCATION:Gemeindehaus Schönhagen
ORGANIZER:
SEQUENCE:1
SUMMARY:Stefan Grebe: Die Übermacht
TRANSP:OPAQUE
URL:https://literatur-kunstkreis-uslar.de/index.php/programm/archiv/207-ste
 fan-grebe-die-uebermacht
END:VEVENT
END:VCALENDAR
