BEGIN:VCALENDAR
VERSION:2.0
PRODID:-//Literatur- und Kunstkreis Uslar e. V.//NONSGML kigkonsult.se iCalcreator 2.41.92//
CALSCALE:GREGORIAN
METHOD:PUBLISH
UID:35343134-3337-4937-b532-643138666433
X-WR-CALNAME:iCagenda
X-WR-CALDESC:Event Management Extension for Joomla!
X-WR-RELCALID:3E26604A-50F4-4449-8B3E-E4F4932D05B5
X-WR-TIMEZONE:Europe/Berlin
BEGIN:VTIMEZONE
TZID:Europe/Berlin
TZUNTIL:20271031T010000Z
BEGIN:STANDARD
TZNAME:CET
DTSTART:20251026T030000
TZOFFSETFROM:+0200
TZOFFSETTO:+0100
RDATE:20261025T030000
END:STANDARD
BEGIN:DAYLIGHT
TZNAME:CEST
DTSTART:20250330T020000
TZOFFSETFROM:+0100
TZOFFSETTO:+0200
RDATE:20260329T020000
RDATE:20270328T020000
END:DAYLIGHT
END:VTIMEZONE
BEGIN:VEVENT
UID:35376465-3333-4338-b930-393466323265
DTSTAMP:20260422T120409Z
CATEGORIES:2026
CLASS:PUBLIC
DESCRIPTION;ALTREP="CID:<FFFF__=0ABBE548DFE235B58f9e8a93d@coffeebean.com>":
 Wer hätte das damals gedacht – dass aus diesem vor genau 200 Jahren gebore
 nen Sohn einmal ein Walzerkönig werden sollte. Einer\, dessen Werke seit e
 iner gefühlten Ewigkeit zu den meistgespielten gehören. Einer\, der in Bez
 ug auf den Song-Output eigentlich nur mit Michael Jackson oder Paul McCart
 ney zu vergleichen ist. Johann Strauß II\, der Sohn des gleichnamigen Vate
 rs mit starken Wiener Wurzeln und einem im Dreiertakt schlagenden Herzen\,
  schuf funken- sprühende Walzer- und Polkahits\, die die Zeiten überdau- e
 rten und die fast jeder mitpfeifen kann. Nicht nur zu Silves- ter und Neuj
 ahr. Aber dann besonders schmissig. Als Solist begeistert der Violinvirtuo
 se Tassilo Probst (Foto). Chefdirigent Nicholas Milton macht seinem Ruf al
 le Ehre und spickt das Programm zudem mit kleinen Einwürfen anderer Kompon
 isten. Prosit!
DTSTART:20260107T190000Z
DTEND:20260107T210000Z
GEO:+51.667263;+9.631193
LOCATION:Forum Gymnasium Uslar
ORGANIZER:
SEQUENCE:1
SUMMARY:Neujahrskonzert des GSO
TRANSP:OPAQUE
URL:https://literatur-kunstkreis-uslar.de/index.php/programm/archiv/208-neu
 jahrskonzert-des-gso-2026
END:VEVENT
END:VCALENDAR
