BEGIN:VCALENDAR
VERSION:2.0
PRODID:-//Literatur- und Kunstkreis Uslar e. V.//NONSGML kigkonsult.se iCalcreator 2.41.92//
CALSCALE:GREGORIAN
METHOD:PUBLISH
UID:39613966-3065-4132-b763-623036396532
X-WR-CALNAME:iCagenda
X-WR-CALDESC:Event Management Extension for Joomla!
X-WR-RELCALID:3E26604A-50F4-4449-8B3E-E4F4932D05B5
X-WR-TIMEZONE:Europe/Berlin
BEGIN:VTIMEZONE
TZID:Europe/Berlin
TZUNTIL:20271031T010000Z
BEGIN:STANDARD
TZNAME:CET
DTSTART:20251026T030000
TZOFFSETFROM:+0200
TZOFFSETTO:+0100
RDATE:20261025T030000
END:STANDARD
BEGIN:DAYLIGHT
TZNAME:CEST
DTSTART:20250330T020000
TZOFFSETFROM:+0100
TZOFFSETTO:+0200
RDATE:20260329T020000
RDATE:20270328T020000
END:DAYLIGHT
END:VTIMEZONE
BEGIN:VEVENT
UID:63373435-3736-4332-b333-303032393236
DTSTAMP:20260422T115636Z
CATEGORIES:2026
CLASS:PUBLIC
DESCRIPTION;ALTREP="CID:<FFFF__=0ABBE548DFE235B58f9e8a93d@coffeebean.com>":
 Lucy van Kuhl besingt und kommentiert in ihrem neuen Programm „Auf den zwe
 iten Blick“ empathisch die Liebe\, das Alter\, Menschen\, die in unserer G
 esellschaft kaum wahr- genommen werden\, Menschen\, die (leider) viel zu s
 ehr wahrgenommen werden\, Situationen\, die man sich eingebrockt hat und a
 us denen man schlecht wieder rauskommt. Und sie stellt sich die Frage „Wan
 n hab ich zum letzten Mal was zum ersten Mal gemacht?“\, denn es lohnt sic
 h auch ein zweiter\, dritter\, sechster Blick auf unsere Lebensroutine. Ma
 n findet sich in ihren Liedern wieder\, in den kleinen Tücken des Alltags\
 , die sie ironisch besingt\, aber auch in ihren ehrlichen\, ruhigen Chanso
 ns.
DTSTART:20260221T183000Z
DTEND:20260221T203000Z
GEO:+51.659355;+9.631767
LOCATION:Ev. Gemeindehaus Uslar
ORGANIZER:
SEQUENCE:1
SUMMARY:Kabarett: Lucy van Kuhl
TRANSP:OPAQUE
URL:https://literatur-kunstkreis-uslar.de/index.php/programm/archiv/209-kab
 arett-lucy-van-kuhl
END:VEVENT
END:VCALENDAR
