BEGIN:VCALENDAR
VERSION:2.0
PRODID:-//Literatur- und Kunstkreis Uslar e. V.//NONSGML kigkonsult.se iCalcreator 2.41.92//
CALSCALE:GREGORIAN
METHOD:PUBLISH
UID:30373138-3637-4431-b138-623262646437
X-WR-CALNAME:iCagenda
X-WR-CALDESC:Event Management Extension for Joomla!
X-WR-RELCALID:3E26604A-50F4-4449-8B3E-E4F4932D05B5
X-WR-TIMEZONE:Europe/Berlin
BEGIN:VTIMEZONE
TZID:Europe/Berlin
TZUNTIL:20121028T010000Z
BEGIN:STANDARD
TZNAME:CET
DTSTART:20101031T030000
TZOFFSETFROM:+0200
TZOFFSETTO:+0100
RDATE:20111030T030000
END:STANDARD
BEGIN:DAYLIGHT
TZNAME:CEST
DTSTART:20100328T020000
TZOFFSETFROM:+0100
TZOFFSETTO:+0200
RDATE:20110327T020000
RDATE:20120325T020000
END:DAYLIGHT
END:VTIMEZONE
BEGIN:VEVENT
UID:32333930-3165-4061-b338-333564643965
DTSTAMP:20260422T145925Z
CATEGORIES:2011
CLASS:PUBLIC
DESCRIPTION:
DTSTART:20110128T183000Z
DTEND:20110128T183000Z
GEO:+51.658913;+9.635064
LOCATION:Romantisches Hotel Menzhausen
ORGANIZER:
SEQUENCE:1
SUMMARY:Literarische Kostproben
TRANSP:OPAQUE
URL:https://literatur-kunstkreis-uslar.de/index.php/programm/archiv/21-lite
 rarische-kostproben
END:VEVENT
END:VCALENDAR
