BEGIN:VCALENDAR
VERSION:2.0
PRODID:-//Literatur- und Kunstkreis Uslar e. V.//NONSGML kigkonsult.se iCalcreator 2.41.92//
CALSCALE:GREGORIAN
METHOD:PUBLISH
UID:61363837-3132-4464-b339-343935333131
X-WR-CALNAME:iCagenda
X-WR-CALDESC:Event Management Extension for Joomla!
X-WR-RELCALID:3E26604A-50F4-4449-8B3E-E4F4932D05B5
X-WR-TIMEZONE:Europe/Berlin
BEGIN:VTIMEZONE
TZID:Europe/Berlin
TZUNTIL:20271031T010000Z
BEGIN:STANDARD
TZNAME:CET
DTSTART:20251026T030000
TZOFFSETFROM:+0200
TZOFFSETTO:+0100
RDATE:20261025T030000
END:STANDARD
BEGIN:DAYLIGHT
TZNAME:CEST
DTSTART:20250330T020000
TZOFFSETFROM:+0100
TZOFFSETTO:+0200
RDATE:20260329T020000
RDATE:20270328T020000
END:DAYLIGHT
END:VTIMEZONE
BEGIN:VEVENT
UID:31386435-6363-4162-b837-646163343064
DTSTAMP:20260422T115635Z
CATEGORIES:2026
CLASS:PUBLIC
DESCRIPTION;ALTREP="CID:<FFFF__=0ABBE548DFE235B58f9e8a93d@coffeebean.com>":
 Schlager Si\, Arbeit No! Lassen Sie den stressigen Arbeitsalltag hinter si
 ch und reisen Sie mit uns in eine Zeit\, in der Burnout noch ein Fremdwort
  war – Dieter\, hol den Likör raus\, jetzt ist Zeit für Schlager! Gretchen
 s Antwort schlagern sich mit Beatbox und viel Humor in die heile Welt der 
 1970er Jahre und singen das Beste und Peinlichste\, was die deutsche Musik
 szene zu bieten hat.
DTSTART:20260306T183000Z
DTEND:20260306T203000Z
GEO:+51.667263;+9.631193
LOCATION:Forum Gymnasium Uslar
ORGANIZER:
SEQUENCE:1
SUMMARY:A capella: Gretchens Antwort
TRANSP:OPAQUE
URL:https://literatur-kunstkreis-uslar.de/index.php/programm/archiv/210-a-c
 apella-gretchens-antwort
END:VEVENT
END:VCALENDAR
