BEGIN:VCALENDAR
VERSION:2.0
PRODID:-//Literatur- und Kunstkreis Uslar e. V.//NONSGML kigkonsult.se iCalcreator 2.41.92//
CALSCALE:GREGORIAN
METHOD:PUBLISH
UID:33306630-3366-4231-b236-636362346362
X-WR-CALNAME:iCagenda
X-WR-CALDESC:Event Management Extension for Joomla!
X-WR-RELCALID:3E26604A-50F4-4449-8B3E-E4F4932D05B5
X-WR-TIMEZONE:Europe/Berlin
BEGIN:VTIMEZONE
TZID:Europe/Berlin
TZUNTIL:20271031T010000Z
BEGIN:STANDARD
TZNAME:CET
DTSTART:20251026T030000
TZOFFSETFROM:+0200
TZOFFSETTO:+0100
RDATE:20261025T030000
END:STANDARD
BEGIN:DAYLIGHT
TZNAME:CEST
DTSTART:20250330T020000
TZOFFSETFROM:+0100
TZOFFSETTO:+0200
RDATE:20260329T020000
RDATE:20270328T020000
END:DAYLIGHT
END:VTIMEZONE
BEGIN:VEVENT
UID:61303537-3538-4637-b736-643364343533
DTSTAMP:20260422T115635Z
CATEGORIES:2026
CLASS:PUBLIC
DESCRIPTION;ALTREP="CID:<FFFF__=0ABBE548DFE235B58f9e8a93d@coffeebean.com>":
 Martin Gaebler aus dem Uslarer Ortsteil Wiensen ist Fotograf aus Spaß an d
 er Freude. Seit 2021 fotografiert er bei den Veranstaltungen unseres Verei
 ns. Dabei versteht er es\, die Stimmung eines Konzertes oder einer Lesung 
 im Bild einzufangen\, mal schwungvoll\, mal eindringlich\, mal konzentrier
 t aber immer intensiv und vor allem: nah dran. Jetzt ist Martin Gaeblers K
 ulturfotografie in einer eigenen Ausstellung zu sehen. Gemeinsam mit der K
 reissparkasse Northeim zeigt der Literatur- und Kunstkreis die schönsten B
 ilder aus vielen Veranstaltungen der letzten Jahre. Eine lebendige Retrosp
 ektive.
DTSTART:20260310T230000Z
DTEND:20260413T230000Z
GEO:+51.659176;+9.636241
LOCATION:Schalterhalle der KSN Uslar
ORGANIZER:
SEQUENCE:1
SUMMARY:Fotoausstellung
TRANSP:OPAQUE
URL:https://literatur-kunstkreis-uslar.de/index.php/programm/archiv/215-fot
 oausstellung
END:VEVENT
END:VCALENDAR
